Workbook
Name _red1: #REF!
Name _red1: #REF!
Name _red1: #REF!
Name _red1: #REF!
Name _red1: #REF!
Name _red1: #REF!
Name _red1: #REF!
Name _red1: #REF!
Name _red1: #REF!
Name _red1: #REF!
Name datecode1: #REF!
Name datecode1: #REF!
Name datecode1: #REF!
Name datecode1: #REF!
Name datecode1: #REF!
Name datecode1: #REF!
Name datecode1: #REF!
Name datecode1: #REF!
Name datecode1: #REF!
Name KS_E_3707: #REF!
Name KS_E_3707: #REF!
Name KS_E_3707: #REF!
Name KS_E_3707: #REF!
Name KS_E_3707: #REF!
Name KS_E_3707: #REF!
Name KS_E_3707: #REF!
Name KS_E_3707: #REF!
Name LOV_ActiveList: #REF!
Name LOV_ActiveList: #REF!
Name LOV_ActiveList: #REF!
Name LOV_ActiveList: #REF!
Name LOV_ActiveList: #REF!
Name LOV_ActiveList: #REF!
Name LOV_ActiveList: #REF!
Name LOV_ActiveList: #REF!
Name LOV_ActiveList: #REF!
Name LOV_ODBCDataSource: #REF!
Name LOV_ODBCDataSource: #REF!
Name LOV_ODBCDataSource: #REF!
Name LOV_ODBCDataSource: #REF!
Name LOV_ODBCDataSource: #REF!
Name LOV_ODBCDataSource: #REF!
Name LOV_ODBCDataSource: #REF!
Name LOV_ODBCDataSource: #REF!
Name LOV_ODBCDataSource: #REF!
Name LOV_Properties: #REF!
Name LOV_Properties: #REF!
Name LOV_Properties: #REF!
Name LOV_Properties: #REF!
Name LOV_Properties: #REF!
Name LOV_Properties: #REF!
Name LOV_Properties: #REF!
Name LOV_Properties: #REF!
Name LOV_Properties: #REF!
Name LOV_ResampleMethod: #REF!
Name LOV_ResampleMethod: #REF!
Name LOV_ResampleMethod: #REF!
Name LOV_ResampleMethod: #REF!
Name LOV_ResampleMethod: #REF!
Name LOV_ResampleMethod: #REF!

Sheet 개요
V4: 1. 시트설명 | AH4: 3. 시트구성 및 작성확인 * 항목선택시 시트이동
V5: ① (배경) 조사목적 및 관련법령 설명 시트
C6: 2024년 지역 온실가스 통계 기초자료 작성 조사표 | V6: ② (담당) 주작성자 및 자료담당자의 인적사항을 기재하는 시트 | AH6: 농업_필수 | AJ6: 장내발효(3A)/가축분뇨처리(3B) | AK6: =IF(농업_필수!$B$8<>0,"작성", "미작성") -> 미작성 | AO6: 농업_기타 | AQ6: 장내발효(3A)/가축분뇨처리(3B) | AR6: =IF(농업_기타!$B$8<>0,"작성", "미작성") -> 미작성 | AV6: 에너지 | AX6: 에너지산업(1A1) | AY6: =IF(에너지!$B$7<>0,"작성", "미작성") -> 미작성
V7: ③ (분야) 각 분야에 대하여 기초자료를 입력하는 시트 | AJ7: 벼재배(3C) | AK7: =IF(농업_필수!$B$25<>0,"작성", "미작성") -> 미작성 | AQ7: 벼재배(3C) | AR7: =IF(농업_기타!$B$82<>0,"작성", "미작성") -> 미작성 | AX7: 제조업 및 건설업(1A2) | AY7: =IF(에너지!$B$351<>0,"작성", "미작성") -> 미작성
AJ8: 농경지토양(3D)/작물잔사소각(3F) | AK8: =IF(농업_필수!$B$40<>0,"작성", "미작성") -> 미작성 | AQ8: 농경지토양(3D)/작물잔사소각(3F) | AR8: =IF(농업_기타!$B$147<>0,"작성", "미작성") -> 미작성 | AX8: 수송(1A3) | AY8: =IF(에너지!$B$1094<>0,"작성", "미작성") -> 미작성
AQ9: 석회시용(3G)/요소시용(3H) | AR9: =IF(농업_기타!$B$181<>0,"작성", "미작성") -> 미작성 | AX9: 기타(1A4) | AY9: =IF(에너지!$B$1442<>0,"작성", "미작성") -> 미작성
AH10: LULUCF_필수 | AJ10: 산림지(4A) | AK10: =IF(LULUCF_필수!$B$7<>0,"작성", "미작성") -> 미작성 | AX10: 미분류(1A5) | AY10: =IF(에너지!$B$1786<>0,"작성", "미작성") -> 미작성
AJ11: 농경지(4B) | AK11: =IF(LULUCF_필수!$B$21<>0,"작성", "미작성") -> 미작성 | AO11: LULUCF_기타 | AQ11: 수확된 목재제품(4G) | AR11: =IF(LULUCF_기타!$B$8<>0,"작성", "미작성") -> 미작성 | AX11: 탈루배출(1B) | AY11: =IF(에너지!$B$1845<>0,"작성", "미작성") -> 미작성
V12: 2. 입력안내 | AJ12: 초지(4C) | AK12: =IF(LULUCF_필수!$B$31<>0,"작성", "미작성") -> 미작성
V13: ① 양식의 단위와 확보자료의 단위가 상이한 경우, 확보자료 수치 입력 | AJ13: 습지(4D) | AK13: =IF(LULUCF_필수!$B$40<>0,"작성", "미작성") -> 미작성 | AO13: 폐기물_기타 | AQ13: 고형폐기물의 생물학적처리(5B) | AR13: =IF(폐기물_기타!$B$8<>0,"작성", "미작성") -> 미작성 | AV13: 산업공정 | AX13: 광물산업(2A) | AY13: =IF(산업공정!$B$7<>0,"작성", "미작성") -> 미작성
V14: ② 기초자료 미입력시 센터에서 일괄입력 또는 자료요청 진행 | AQ14: 하폐수처리(5D) | AR14: =IF(폐기물_기타!$B$19<>0,"작성", "미작성") -> 미작성 | AX14: 화학산업(2B) | AY14: =IF(산업공정!$B$43<>0,"작성", "미작성") -> 미작성
V15: ③ 필수입력 : 농업_필수, LULUCF_필수, 폐기물_필수 | AH15: 폐기물_필수 | AJ15: 폐기물매립(5A) | AK15: =IF(폐기물_필수!$B$7<>0,"작성", "미작성") -> 미작성 | AX15: 금속산업(2C) | AY15: =IF(산업공정!$B$107<>0,"작성", "미작성") -> 미작성
V16: ④ 선택입력 : 에너지, 산업공정, 간접배출, 농업_기타, LULUCF_기타, 폐기물_기타 | AJ16: 폐기물소각(5C) | AK16: =IF(폐기물_필수!$B$138<>0,"작성", "미작성") -> 미작성 | AX16: 비에너지 제품 및 용매 사용(2D) | AY16: =IF(산업공정!$B$163<>0,"작성", "미작성") -> 미작성
AJ17: 하폐수처리(5D) | AK17: =IF(폐기물_필수!$B$271<>0,"작성", "미작성") -> 미작성 | AX17: 전자산업(2E) | AY17: =IF(산업공정!$B$180<>0,"작성", "미작성") -> 미작성
AX18: 기타제품 제조 및 사용(2G) | AY18: =IF(산업공정!$B$246<>0,"작성", "미작성") -> 미작성
AV20: 간접배출 | AX20: 전력(6A) | AY20: =IF(간접배출!$B$6<>0,"작성", "미작성") -> 미작성
AX21: 열(6B) | AY21: =IF(간접배출!$B$51<>0,"작성", "미작성") -> 미작성
AX22: 폐기물(6C) | AY22: =IF(간접배출!$B$62<>0,"작성", "미작성") -> 미작성

Sheet 배경
C3: □ 작성배경
D5: □「제2차 기후변화대응 기본계획(‘20~’40)」 수립(‘19.10)으로, 국가 온실가스 감축목표 달성을 위한 지자체의 역할이 확대
D7: ㅇ 지자체 계획수립 및 이행평가의 지표로서 국가 인벤토리와 연계 가능하고 지역특성이 반영된 지역별 배출량 통계가 필요
D9: □「기후위기 대응을 위한 탄소중립·녹색성장 기본법」 및 동법 시행령 제정으로, 시·도 및 시·군·구 지자체는 상향된 국가감축목표*(NDC)와 연계한 지역 배출량 감축 기본계획 수립·시행 의무화
D11: * 국가 온실가스 배출량을 2030년까지 2018년 대비 40% 감축
D13: ㅇ 법 제11조, 제12조 및 시행령안 제6조, 제7조에 따라, 시·도 및 시·군·구 지자체는 탄소중립 녹색성장 기본계획을 수립·시행하여야 함
D16: < 법 제11조(시ㆍ도 계획의 수립 등) >
D18: ① 특별시장ㆍ광역시장ㆍ특별자치시장ㆍ도지사 및 특별자치도지사(이하 “시ㆍ도지사”라 한다)는 국가기본계획과 관할 구역의 지역적 특성 등을 고려하여 10년을 계획기간으로 하는 시ㆍ도 탄소중립 녹색성장 기본계획(이하 “시ㆍ도계획”이라 한다)을 5년마다 수립ㆍ시행하여야 한다.
D20: < 법 제12조(시ㆍ군ㆍ구 계획의 수립 등) >
D22: ① 시장ㆍ군수ㆍ구청장(자치구의 구청장을 말한다. 이하 같다)은 국가기본계획, 시ㆍ도계획과 관할 구역의 지역적 특성 등을 고려하여 10년을 계획기간으로 하는 시ㆍ군ㆍ구 탄소중립 녹색성장 기본계획 (이하 “시ㆍ군ㆍ구계획”이라 한다)을 5년마다 수립ㆍ시행하여야 한다.
D24: < 시행령 제6조(탄소중립시ㆍ도 계획의 수립 등) >
D26: ① 특별시장ㆍ광역시장ㆍ특별자치시장ㆍ도지사 및 특별자치도지사(이하 “시ㆍ도지사”라 한다)는 탄소중립국가기본계획이 수립되거나 변경(법 제10조제3항 단서에 따른 경미한 사항이 변경된 경우는 제외한다)된 날부터 6개월 이내에 법 제11조제1항에 따른 시ㆍ도 탄소중립 녹색성장 기본계획(이하 “탄소중립시ㆍ도계획”이라 한다)을 수립하거나 변경해야 한다.
D28: < 시행령 제7조(탄소중립시ㆍ군ㆍ구 계획의 수립 등) >
... D49: ⑪ 법 제36조제5항에 따라 온실가스종합정보센터는 제5항 및 제6항에 따라 제출받은 정보ㆍ통계를 분석ㆍ검증한 결과를 매년 12월 31일까지 온실가스종합정보센터의 인터넷 홈페이지에 공개해야 한다.

Sheet 담당
B2: 1. 작성 담당자 - 조사표 취합 및 총괄
B3: 광역 | C3: 기초 | D3: 소속 | E3: 직급 | F3: 이름 | G3: 전화번호 | H3: 이메일 | I3: 2023년 조사표 작성 여부
B4: ex) 서울 | C4: OO구 | D4: OO국 OO과 | E4: OO | F4: OOO | G4: 02-XXXX-XXXX | H4: abcdefg@korea.kr | I4: O/X
B7: 2. 기초자료 담당자
B8: 광역 | C8: 기초 | D8: 소속 | E8: 직급 | F8: 이름 | G8: 전화번호 | H8: 이메일 | I8: 제출 자료

Sheet 농업_필수
B2: 농업_필수입력
B7: ▶ 장내발효(3A)/가축분뇨처리(3B)-가축사육두수(지자체 통계연보 활용)
B8: =SUM(G12:U20) -> 0
C9: 3A, 3B | D9: 가축사육두수
C11: CRF code | D11: 대분류 | E11: 중분류 | F11: 단위 | G11: 2008 | H11: 2009 | I11: 2010 | J11: 2011 | K11: 2012 | L11: 2013 | M11: 2014 | N11: 2015 | O11: 2016 | P11: 2017 | Q11: 2018 | R11: 2019 | S11: 2020 | T11: 2021 | U11: 2022 | V11: 출처 | W11: 비고
D12: 젖소 | E12: 젖소 | F12: 두수 | V12: 활용 통계 및 자료 출처 기입 | W12: 단위변경 등 특이사항 기재
D13: 한육우 | E13: 한육우 | F13: 두수 | V13: 활용 통계 및 자료 출처 기입 | W13: 단위변경 등 특이사항 기재
D14: 돼지 | E14: 돼지 | F14: 두수 | V14: 활용 통계 및 자료 출처 기입 | W14: 단위변경 등 특이사항 기재
D15: 닭 | E15: 닭 | F15: 두수 | V15: 활용 통계 및 자료 출처 기입 | W15: 단위변경 등 특이사항 기재
D16: 오리 | E16: 오리 | F16: 두수 | V16: 활용 통계 및 자료 출처 기입 | W16: 단위변경 등 특이사항 기재
D17: 양(면양) | E17: 양(면양) | F17: 두수 | V17: 활용 통계 및 자료 출처 기입 | W17: 단위변경 등 특이사항 기재
D18: 염소(산양) | E18: 염소(산양) | F18: 두수 | V18: 활용 통계 및 자료 출처 기입 | W18: 단위변경 등 특이사항 기재
D19: 말 | E19: 말 | F19: 두수 | V19: 활용 통계 및 자료 출처 기입 | W19: 단위변경 등 특이사항 기재
D20: 사슴 | E20: 사슴 | F20: 두수 | V20: 활용 통계 및 자료 출처 기입 | W20: 단위변경 등 특이사항 기재
B24: ▶ 벼재배(3C)-재배면적(지자체 통계연보 활용)
B25: =SUM(G29:U35) -> 0
C26: 3C | D26: 벼 재배면적
C28: CRF code | D28: 대분류 | E28: 중분류 | F28: 단위 | G28: 2008 | H28: 2009 | I28: 2010 | J28: 2011 | K28: 2012 | L28: 2013 | M28: 2014 | N28: 2015 | O28: 2016 | P28: 2017 | Q28: 2018 | R28: 2019 | S28: 2020 | T28: 2021 | U28: 2022 | V28: 출처 | W28: 비고
C29: 1A1a | D29: 재배면적 | E29: 논벼 | F29: ha | V29: 활용 통계 및 자료 출처 기입 | W29: 단위변경 등 특이사항 기재
E30: 밭벼 | F30: ha | V30: 활용 통계 및 자료 출처 기입 | W30: 단위변경 등 특이사항 기재
E31: 겉보리 | F31: ha | V31: 활용 통계 및 자료 출처 기입 | W31: 단위변경 등 특이사항 기재
E32: 쌀보리 | F32: ha | V32: 활용 통계 및 자료 출처 기입 | W32: 단위변경 등 특이사항 기재
E33: 밀 | F33: ha | V33: 활용 통계 및 자료 출처 기입 | W33: 단위변경 등 특이사항 기재
E34: 호밀 | F34: ha | V34: 활용 통계 및 자료 출처 기입 | W34: 단위변경 등 특이사항 기재
E35: 맥주보리 | F35: ha | V35: 활용 통계 및 자료 출처 기입 | W35: 단위변경 등 특이사항 기재
B39: ▶ 농경지토양(3D)/잔사작물소각(3F)-작물별 재배면적 및 생산량(지자체 통계연보 활용)
B40: =SUM(G45:U56,G62:U73) -> 0
C42: 3D/3F | D42: 작물별 재배면적
C44: CRF code | D44: 대분류 | E44: 중분류 | F44: 단위 | G44: 2008 | H44: 2009 | I44: 2010 | J44: 2011 | K44: 2012 | L44: 2013 | M44: 2014 | N44: 2015 | O44: 2016 | P44: 2017 | Q44: 2018 | R44: 2019 | S44: 2020 | T44: 2021 | U44: 2022 | V44: 출처 | W44: 비고
D45: 작물별 재배면적 | E45: 잡곡_옥수수 | F45: ha | V45: 활용 통계 및 자료 출처 기입 | W45: 단위변경 등 특이사항 기재
E46: 두류_콩 | F46: ha | V46: 활용 통계 및 자료 출처 기입 | W46: 단위변경 등 특이사항 기재
E47: 두류_팥 | F47: ha | V47: 활용 통계 및 자료 출처 기입 | W47: 단위변경 등 특이사항 기재
E48: 두류_녹두 | F48: ha | V48: 활용 통계 및 자료 출처 기입 | W48: 단위변경 등 특이사항 기재
E49: 두류_기타 | F49: ha | V49: 활용 통계 및 자료 출처 기입 | W49: 단위변경 등 특이사항 기재
E50: 서류_감자 | F50: ha | V50: 활용 통계 및 자료 출처 기입 | W50: 단위변경 등 특이사항 기재
E51: 서류_고구마 | F51: ha | V51: 활용 통계 및 자료 출처 기입 | W51: 단위변경 등 특이사항 기재
E52: 채소류_배추 | F52: ha | V52: 활용 통계 및 자료 출처 기입 | W52: 단위변경 등 특이사항 기재
E53: 채소류_고추 | F53: ha | V53: 활용 통계 및 자료 출처 기입 | W53: 단위변경 등 특이사항 기재
E54: 채소류_마늘 | F54: ha | V54: 활용 통계 및 자료 출처 기입 | W54: 단위변경 등 특이사항 기재
E55: 채소류_양파 | F55: ha | V55: 활용 통계 및 자료 출처 기입 | W55: 단위변경 등 특이사항 기재
...

Sheet 농업_기타
B2: 농업_필수입력_기타
B7: ▶ 장내발효(3A)/가축분뇨처리(3B)-가축사육두수(지자체 통계연보 활용)
B8: =SUM(I12:U77) -> 0
C9: 3B | D9: 가축분뇨처리시설 이용비율
C11: CRF code | D11: 대분류 | E11: 중분류 | F11: 단위 | G11: 2008 | H11: 2009 | I11: 2010 | J11: 2011 | K11: 2012 | L11: 2013 | M11: 2014 | N11: 2015 | O11: 2016 | P11: 2017 | Q11: 2018 | R11: 2019 | S11: 2020 | T11: 2021 | U11: 2022 | V11: 출처 | W11: 비고
D12: 퇴비화 | E12: 젖소 | F12: % | V12: 활용 통계 및 자료 출처 기입 | W12: 단위변경 등 특이사항 기재
E13: 한육우 | F13: % | V13: 활용 통계 및 자료 출처 기입 | W13: 단위변경 등 특이사항 기재
E14: 돼지(비육용) | F14: % | V14: 활용 통계 및 자료 출처 기입 | W14: 단위변경 등 특이사항 기재
E15: 돼지(번식용) | F15: % | V15: 활용 통계 및 자료 출처 기입 | W15: 단위변경 등 특이사항 기재
E16: 닭(산란) | F16: % | V16: 활용 통계 및 자료 출처 기입 | W16: 단위변경 등 특이사항 기재
E17: 닭(육계) | F17: % | V17: 활용 통계 및 자료 출처 기입 | W17: 단위변경 등 특이사항 기재
E18: 오리 | F18: % | V18: 활용 통계 및 자료 출처 기입 | W18: 단위변경 등 특이사항 기재
E19: 양(면양) | F19: % | V19: 활용 통계 및 자료 출처 기입 | W19: 단위변경 등 특이사항 기재
E20: 염소(산양) | F20: % | V20: 활용 통계 및 자료 출처 기입 | W20: 단위변경 등 특이사항 기재
E21: 말 | F21: % | V21: 활용 통계 및 자료 출처 기입 | W21: 단위변경 등 특이사항 기재
E22: 사슴 | F22: % | V22: 활용 통계 및 자료 출처 기입 | W22: 단위변경 등 특이사항 기재
D23: 액비화 | E23: 젖소 | F23: % | V23: 활용 통계 및 자료 출처 기입 | W23: 단위변경 등 특이사항 기재
E24: 한육우 | F24: % | V24: 활용 통계 및 자료 출처 기입 | W24: 단위변경 등 특이사항 기재
E25: 돼지(비육용) | F25: % | V25: 활용 통계 및 자료 출처 기입 | W25: 단위변경 등 특이사항 기재
E26: 돼지(번식용) | F26: % | V26: 활용 통계 및 자료 출처 기입 | W26: 단위변경 등 특이사항 기재
E27: 닭(산란) | F27: % | V27: 활용 통계 및 자료 출처 기입 | W27: 단위변경 등 특이사항 기재
E28: 닭(육계) | F28: % | V28: 활용 통계 및 자료 출처 기입 | W28: 단위변경 등 특이사항 기재
E29: 오리 | F29: % | V29: 활용 통계 및 자료 출처 기입 | W29: 단위변경 등 특이사항 기재
E30: 양(면양) | F30: % | V30: 활용 통계 및 자료 출처 기입 | W30: 단위변경 등 특이사항 기재
E31: 염소(산양) | F31: % | V31: 활용 통계 및 자료 출처 기입 | W31: 단위변경 등 특이사항 기재
E32: 말 | F32: % | V32: 활용 통계 및 자료 출처 기입 | W32: 단위변경 등 특이사항 기재
E33: 사슴 | F33: % | V33: 활용 통계 및 자료 출처 기입 | W33: 단위변경 등 특이사항 기재
D34: 퇴액비화 | E34: 젖소 | F34: % | V34: 활용 통계 및 자료 출처 기입 | W34: 단위변경 등 특이사항 기재
E35: 한육우 | F35: % | V35: 활용 통계 및 자료 출처 기입 | W35: 단위변경 등 특이사항 기재
E36: 돼지(비육용) | F36: % | V36: 활용 통계 및 자료 출처 기입 | W36: 단위변경 등 특이사항 기재
E37: 돼지(번식용) | F37: % | V37: 활용 통계 및 자료 출처 기입 | W37: 단위변경 등 특이사항 기재
E38: 닭(산란) | F38: % | V38: 활용 통계 및 자료 출처 기입 | W38: 단위변경 등 특이사항 기재
E39: 닭(육계) | F39: % | V39: 활용 통계 및 자료 출처 기입 | W39: 단위변경 등 특이사항 기재
E40: 오리 | F40: % | V40: 활용 통계 및 자료 출처 기입 | W40: 단위변경 등 특이사항 기재
E41: 양(면양) | F41: % | V41: 활용 통계 및 자료 출처 기입 | W41: 단위변경 등 특이사항 기재
E42: 염소(산양) | F42: % | V42: 활용 통계 및 자료 출처 기입 | W42: 단위변경 등 특이사항 기재
E43: 말 | F43: % | V43: 활용 통계 및 자료 출처 기입 | W43: 단위변경 등 특이사항 기재
E44: 사슴 | F44: % | V44: 활용 통계 및 자료 출처 기입 | W44: 단위변경 등 특이사항 기재
D45: 정화 | E45: 젖소 | F45: % | V45: 활용 통계 및 자료 출처 기입 | W45: 단위변경 등 특이사항 기재
E46: 한육우 | F46: % | V46: 활용 통계 및 자료 출처 기입 | W46: 단위변경 등 특이사항 기재
...

Sheet LULUCF_필수
B2: LULUCF_필수입력
B6: ▶ 산림지(4A) - 임목축적량(산림기본통계 활용)
B7: =SUM(G11:V16) -> 0
C8: 4A | D8: 산림지 면적
C10: CRF code | D10: 대분류 | E10: 중분류 | F10: 단위 | G10: 2007 | H10: 2008 | I10: 2009 | J10: 2010 | K10: 2011 | L10: 2012 | M10: 2013 | N10: 2014 | O10: 2015 | P10: 2016 | Q10: 2017 | R10: 2018 | S10: 2019 | T10: 2020 | U10: 2021 | V10: 2022 | W10: 출처 | X10: 비고
D11: 산림면적 | E11: 활엽수림 | F11: m2 | W11: 활용 통계 및 자료 출처 기입 | X11: 단위변경 등 특이사항 기재
E12: 침엽수림 | F12: m2 | W12: 활용 통계 및 자료 출처 기입 | X12: 단위변경 등 특이사항 기재
E13: 혼효림 | F13: m2 | W13: 활용 통계 및 자료 출처 기입 | X13: 단위변경 등 특이사항 기재
D14: 임목축적량 | E14: 활엽수림 | F14: m3 | W14: 활용 통계 및 자료 출처 기입 | X14: 단위변경 등 특이사항 기재
E15: 침엽수림 | F15: m3 | W15: 활용 통계 및 자료 출처 기입 | X15: 단위변경 등 특이사항 기재
E16: 혼효림 | F16: m3 | W16: 활용 통계 및 자료 출처 기입 | X16: 단위변경 등 특이사항 기재
B20: ▶ 농경지(4B) - 논/밭 경지면적(농업면적조사 활용)
B21: =SUM(G25:AM26) -> 0
C22: 4B | D22: 농경지 면적
C24: CRF code | D24: 대분류 | E24: 중분류 | F24: 단위 | G24: 1990 | H24: 1991 | I24: 1992 | J24: 1993 | K24: 1994 | L24: 1995 | M24: 1996 | N24: 1997 | O24: 1998 | P24: 1999 | Q24: 2000 | R24: 2001 | S24: 2002 | T24: 2003 | U24: 2004 | V24: 2005 | W24: 2006 | X24: 2007 | Y24: 2008 | Z24: 2009 | AA24: 2010 | AB24: 2011 | AC24: 2012 | AD24: 2013 | AE24: 2014 | AF24: 2015 | AG24: 2016 | AH24: 2017 | AI24: 2018 | AJ24: 2019 | AK24: 2020 | AL24: 2021 | AM24: 2022 | AN24: 출처 | AO24: 비고
D25: 농경지 면적 | E25: 논 | F25: ha | AN25: 활용 통계 및 자료 출처 기입 | AO25: 단위변경 등 특이사항 기재
E26: 밭 | F26: ha | AN26: 활용 통계 및 자료 출처 기입 | AO26: 단위변경 등 특이사항 기재
B30: ▶ 초지(4C) - 목장용지 면적(지적통계 활용)
B31: =SUM(G35:AM35) -> 0
C32: 4C | D32: 초지 면적
C34: CRF code | D34: 대분류 | E34: 중분류 | F34: 단위 | G34: 1990 | H34: 1991 | I34: 1992 | J34: 1993 | K34: 1994 | L34: 1995 | M34: 1996 | N34: 1997 | O34: 1998 | P34: 1999 | Q34: 2000 | R34: 2001 | S34: 2002 | T34: 2003 | U34: 2004 | V34: 2005 | W34: 2006 | X34: 2007 | Y34: 2008 | Z34: 2009 | AA34: 2010 | AB34: 2011 | AC34: 2012 | AD34: 2013 | AE34: 2014 | AF34: 2015 | AG34: 2016 | AH34: 2017 | AI34: 2018 | AJ34: 2019 | AK34: 2020 | AL34: 2021 | AM34: 2022 | AN34: 출처 | AO34: 비고
D35: 초지 면적 | E35: 목장용지 | F35: ha | AN35: 활용 통계 및 자료 출처 기입 | AO35: 단위변경 등 특이사항 기재
B39: ▶ 습지(4D) - 구거/유지/양어장/하천 면적(지적통계 활용)
B40: =SUM(G44:AC49) -> 0
C41: 4D | D41: 습지 면적
C43: CRF code | D43: 대분류 | E43: 중분류 | F43: 단위 | G43: 2000 | H43: 2001 | I43: 2002 | J43: 2003 | K43: 2004 | L43: 2005 | M43: 2006 | N43: 2007 | O43: 2008 | P43: 2009 | Q43: 2010 | R43: 2011 | S43: 2012 | T43: 2013 | U43: 2014 | V43: 2015 | W43: 2016 | X43: 2017 | Y43: 2018 | Z43: 2019 | AA43: 2020 | AB43: 2021 | AC43: 2022 | AD43: 출처 | AE43: 비고
D44: 인공침수지 | E44: 구거 | F44: ha | AD44: 활용 통계 및 자료 출처 기입 | AE44: 단위변경 등 특이사항 기재
E45: 유지 | F45: ha | AD45: 활용 통계 및 자료 출처 기입 | AE45: 단위변경 등 특이사항 기재
E46: 양어장 | F46: ha | AD46: 활용 통계 및 자료 출처 기입 | AE46: 단위변경 등 특이사항 기재
D47: 자연침수지 | E47: 하천 | F47: ha | AD47: 활용 통계 및 자료 출처 기입 | AE47: 단위변경 등 특이사항 기재
D48: 식생 연안습지 | E48: 염습지 | F48: ha | AD48: 활용 통계 및 자료 출처 기입 | AE48: 단위변경 등 특이사항 기재
E49: 해초대 | F49: ha | AD49: 활용 통계 및 자료 출처 기입 | AE49: 단위변경 등 특이사항 기재
C53: 4D | D53: 결빙일수
C55: CRF code | D55: 대분류 | E55: 중분류 | F55: 단위 | G55: 2010 | H55: 2011 | I55: 2012 | J55: 2013 | K55: 2014 | L55: 2015 | M55: 2016 | N55: 2017 | O55: 2018 | P55: 2019 | Q55: 2020 | R55: 2020 | S55: 2021 | T55: 출처 | U55: 비고
D56: 연평균 비결빙일수 | E56: 결빙일수 | F56: days | T56: 활용 통계 및 자료 출처 기입 | U56: 단위변경 등 특이사항 기재

Sheet LULUCF_기타
B2: LULUCF_필수입력_기타
B7: ▶ 수확된 목재제품(4G)-해당자료 자체조사 자료 입력(미입력시 해당지역 협회사 수 기준 분배)
B8: =SUM(G13:T15) -> 0
C10: 4G | D10: 국내 생산량
C12: CRF code | D12: 대분류 | E12: 중분류 | F12: 단위 | G12: 2009 | H12: 2010 | I12: 2011 | J12: 2012 | K12: 2013 | L12: 2014 | M12: 2015 | N12: 2016 | O12: 2017 | P12: 2018 | Q12: 2019 | R12: 2020 | S12: 2021 | T12: 2022 | U12: 출처 | V12: 비고
D13: 제재목 | E13: 제재목 | F13: m3 | U13: 활용 통계 및 자료 출처 기입 | V13: 단위변경 등 특이사항 기재
D14: 목질판상재 | E14: 섬유판 | F14: m3 | U14: 활용 통계 및 자료 출처 기입 | V14: 단위변경 등 특이사항 기재
D15: 종이 및 판지 | E15: 종이 | F15: ton | U15: 활용 통계 및 자료 출처 기입 | V15: 단위변경 등 특이사항 기재

Sheet 폐기물_필수
B2: 폐기물_필수입력
B6: ▶ 폐기물매립(5A) - 전국 폐기물 발생 및 처리현황 활용
B7: =SUM(H11:J47,H53:J82,H88:J105,H111:J134) -> 0
C8: 5A 생활폐기물
C10: CRF code | D10: 대분류 | E10: 중분류 | F10: 소분류 | G10: 단위 | H10: 2020 | I10: 2021 | J10: 2022 | K10: 출처 | L10: 비고
D11: 종량제방식 등 혼합배출 | E11: 가연성 | F11: 폐지류 | G11: ton/year | K11: 활용 통계 및 자료 출처 기입 | L11: 단위변경 등 특이사항 기재
F12: 폐합성수지류 | G12: ton/year | K12: 활용 통계 및 자료 출처 기입 | L12: 단위변경 등 특이사항 기재
F13: 폐고무류 | G13: ton/year | K13: 활용 통계 및 자료 출처 기입 | L13: 단위변경 등 특이사항 기재
F14: 폐섬유류 | G14: ton/year | K14: 활용 통계 및 자료 출처 기입 | L14: 단위변경 등 특이사항 기재
F15: 음식물류 폐기물 | G15: ton/year | K15: 활용 통계 및 자료 출처 기입 | L15: 단위변경 등 특이사항 기재
F16: 폐목재류 | G16: ton/year | K16: 활용 통계 및 자료 출처 기입 | L16: 단위변경 등 특이사항 기재
F17: 기타_가연성_생활 | G17: ton/year | K17: 활용 통계 및 자료 출처 기입 | L17: 단위변경 등 특이사항 기재
E18: 불연성 | F18: 폐금속류 | G18: ton/year | K18: 활용 통계 및 자료 출처 기입 | L18: 단위변경 등 특이사항 기재
F19: 폐유리류 | G19: ton/year | K19: 활용 통계 및 자료 출처 기입 | L19: 단위변경 등 특이사항 기재
F20: 폐토사류 | G20: ton/year | K20: 활용 통계 및 자료 출처 기입 | L20: 단위변경 등 특이사항 기재
F21: 폐타일 및 도자기류 | G21: ton/year | K21: 활용 통계 및 자료 출처 기입 | L21: 단위변경 등 특이사항 기재
F22: 연탄재 | G22: ton/year | K22: 활용 통계 및 자료 출처 기입 | L22: 단위변경 등 특이사항 기재
F23: 기타_불연성_생활 | G23: ton/year | K23: 활용 통계 및 자료 출처 기입 | L23: 단위변경 등 특이사항 기재
E24: 건설폐재류 | F24: 건설폐재류 | G24: ton/year | K24: 활용 통계 및 자료 출처 기입 | L24: 단위변경 등 특이사항 기재
E25: 기타(배출불명) | F25: 기타(배출불명)_생활 | G25: ton/year | K25: 활용 통계 및 자료 출처 기입 | L25: 단위변경 등 특이사항 기재
D26: 재활용 가능자원 분리배출 | E26: 폐지류 | F26: 종이팩 | G26: ton/year | K26: 활용 통계 및 자료 출처 기입 | L26: 단위변경 등 특이사항 기재
F27: 기타_폐지류_생활 | G27: ton/year | K27: 활용 통계 및 자료 출처 기입 | L27: 단위변경 등 특이사항 기재
E28: 고철류 | F28: 고철류 | G28: ton/year | K28: 활용 통계 및 자료 출처 기입 | L28: 단위변경 등 특이사항 기재
E29: 금속캔 | F29: 금속캔 | G29: ton/year | K29: 활용 통계 및 자료 출처 기입 | L29: 단위변경 등 특이사항 기재
E30: 폐합성수지류 | F30: 비닐류 | G30: ton/year | K30: 활용 통계 및 자료 출처 기입 | L30: 단위변경 등 특이사항 기재
F31: 발포수지류 | G31: ton/year | K31: 활용 통계 및 자료 출처 기입 | L31: 단위변경 등 특이사항 기재
F32: PET병 | G32: ton/year | K32: 활용 통계 및 자료 출처 기입 | L32: 단위변경 등 특이사항 기재
F33: 기타_폐합성수지류_생활 | G33: ton/year | K33: 활용 통계 및 자료 출처 기입 | L33: 단위변경 등 특이사항 기재
E34: 폐고무류 | F34: 폐고무류 | G34: ton/year | K34: 활용 통계 및 자료 출처 기입 | L34: 단위변경 등 특이사항 기재
E35: 폐유리병류 | F35: 폐유리병류 | G35: ton/year | K35: 활용 통계 및 자료 출처 기입 | L35: 단위변경 등 특이사항 기재
E36: 폐의류 | F36: 폐의류 | G36: ton/year | K36: 활용 통계 및 자료 출처 기입 | L36: 단위변경 등 특이사항 기재
E37: 폐섬유류 | F37: 폐섬유류 | G37: ton/year | K37: 활용 통계 및 자료 출처 기입 | L37: 단위변경 등 특이사항 기재
E38: 조명폐기물 | F38: 조명폐기물 | G38: ton/year | K38: 활용 통계 및 자료 출처 기입 | L38: 단위변경 등 특이사항 기재
E39: 폐전지류 | F39: 폐전지류 | G39: ton/year | K39: 활용 통계 및 자료 출처 기입 | L39: 단위변경 등 특이사항 기재
E40: 영농폐기물 | F40: 농약용기류 | G40: ton/year | K40: 활용 통계 및 자료 출처 기입 | L40: 단위변경 등 특이사항 기재
F41: 폐비닐 | G41: ton/year | K41: 활용 통계 및 자료 출처 기입 | L41: 단위변경 등 특이사항 기재
E42: 폐식용유 | F42: 폐식용유 | G42: ton/year | K42: 활용 통계 및 자료 출처 기입 | L42: 단위변경 등 특이사항 기재
E43: 폐전기전자제품 | F43: 폐전기전자제품 | G43: ton/year | K43: 활용 통계 및 자료 출처 기입 | L43: 단위변경 등 특이사항 기재
E44: 폐가구류 | F44: 폐가구류 | G44: ton/year | K44: 활용 통계 및 자료 출처 기입 | L44: 단위변경 등 특이사항 기재
E45: 기타_재활용_생활 | F45: 기타_재활용_생활 | G45: ton/year | K45: 활용 통계 및 자료 출처 기입 | L45: 단위변경 등 특이사항 기재
...

Sheet 폐기물_기타
B2: 폐기물_필수입력_기타
B7: ▶ 고형폐기물의 생물학적처리(5B)
B8: =SUM(H12:T14) -> 0
C9: 5B | D9: 생물학적처리
C11: CRF code | D11: 대분류 | F11: 중분류 | G11: 단위 | H11: 2010 | I11: 2011 | J11: 2012 | K11: 2013 | L11: 2014 | M11: 2015 | N11: 2016 | O11: 2017 | P11: 2018 | Q11: 2019 | R11: 2020 | S11: 2021 | T11: 2022 | U11: 출처 | V11: 비고
D12: 생물학적처리 | F12: 퇴비화 | G12: ton/yr | U12: 활용 통계 및 자료 출처 기입 | V12: 단위변경 등 특이사항 기재
F13: 혐기성소화 | G13: ton/yr | U13: 활용 통계 및 자료 출처 기입 | V13: 단위변경 등 특이사항 기재
F14: 메탄(CH4) 회수량 | G14: ton/yr | U14: 활용 통계 및 자료 출처 기입 | V14: 단위변경 등 특이사항 기재
B18: ▶하폐수처리(5D) - 하수도통계 활용
B19: =SUM(H23:T26) -> 0
C20: 5D1 하수처리
C22: CRF code | D22: 대분류 | E22: 중분류 | F22: 소분류 | G22: 단위 | H22: 2010 | I22: 2011 | J22: 2012 | K22: 2013 | L22: 2014 | M22: 2015 | N22: 2016 | O22: 2017 | P22: 2018 | Q22: 2019 | R22: 2020 | S22: 2021 | T22: 2022 | U22: 출처 | V22: 비고
D23: 하수도통계 | E23: 하수처리량 | F23: 소화조/소화가스 발생량 | G23: m3/day | U23: 활용 통계 및 자료 출처 기입 | V23: 단위변경 등 특이사항 기재
F24: 소화조/소화가스 회수량 | G24: m3/day | U24: 활용 통계 및 자료 출처 기입 | V24: 단위변경 등 특이사항 기재
D25: 분뇨처리 | E25: 분뇨 질소부하 | F25: 일인당 단백질 섭취량 | G25: g/인∙day | U25: 활용 통계 및 자료 출처 기입 | V25: 단위변경 등 특이사항 기재
D26: 추계인구 | E26: 총인구(추계) | F26: 총인구(추계) | G26: 인 | U26: 활용 통계 및 자료 출처 기입 | V26: 단위변경 등 특이사항 기재
C30: 5D2 | D30: 폐수처리
C32: CRF code | D32: 대분류 | E32: 중분류 | F32: 소분류 | G32: 단위 | H32: 2010 | I32: 2011 | J32: 2012 | K32: 2013 | L32: 2014 | M32: 2015 | N32: 2016 | O32: 2017 | P32: 2018 | Q32: 2019 | R32: 2020 | S32: 2021 | T32: 2022 | U32: 출처 | V32: 비고
D33: 산업폐수 발생 및 처리현황 | E33: 업종별 발생 BOD 부하량 | F33: 화학 | G33: kgBOD/day | U33: 활용 통계 및 자료 출처 기입 | V33: 단위변경 등 특이사항 기재
F34: 전기전자 | G34: kgBOD/day | U34: 활용 통계 및 자료 출처 기입 | V34: 단위변경 등 특이사항 기재
F35: 음식료품 | G35: kgBOD/day | U35: 활용 통계 및 자료 출처 기입 | V35: 단위변경 등 특이사항 기재
F36: 제지 | G36: kgBOD/day | U36: 활용 통계 및 자료 출처 기입 | V36: 단위변경 등 특이사항 기재
F37: 피혁신발 | G37: kgBOD/day | U37: 활용 통계 및 자료 출처 기입 | V37: 단위변경 등 특이사항 기재
F38: 섬유 | G38: kgBOD/day | U38: 활용 통계 및 자료 출처 기입 | V38: 단위변경 등 특이사항 기재
F39: 비금속 | G39: kgBOD/day | U39: 활용 통계 및 자료 출처 기입 | V39: 단위변경 등 특이사항 기재
F40: 발전수도 | G40: kgBOD/day | U40: 활용 통계 및 자료 출처 기입 | V40: 단위변경 등 특이사항 기재
F41: 폐수처리업 | G41: kgBOD/day | U41: 활용 통계 및 자료 출처 기입 | V41: 단위변경 등 특이사항 기재
F42: 금속합계 | G42: kgBOD/day | U42: 활용 통계 및 자료 출처 기입 | V42: 단위변경 등 특이사항 기재
F43: 기타_발생 | G43: kgBOD/day | U43: 활용 통계 및 자료 출처 기입 | V43: 단위변경 등 특이사항 기재
E44: 업종별 방류 BOD 부하량 | F44: 화학 | G44: kgBOD/day | U44: 활용 통계 및 자료 출처 기입 | V44: 단위변경 등 특이사항 기재
F45: 전기전자 | G45: kgBOD/day | U45: 활용 통계 및 자료 출처 기입 | V45: 단위변경 등 특이사항 기재
F46: 음식료품 | G46: kgBOD/day | U46: 활용 통계 및 자료 출처 기입 | V46: 단위변경 등 특이사항 기재
F47: 제지 | G47: kgBOD/day | U47: 활용 통계 및 자료 출처 기입 | V47: 단위변경 등 특이사항 기재
F48: 피혁신발 | G48: kgBOD/day | U48: 활용 통계 및 자료 출처 기입 | V48: 단위변경 등 특이사항 기재
F49: 섬유 | G49: kgBOD/day | U49: 활용 통계 및 자료 출처 기입 | V49: 단위변경 등 특이사항 기재
F50: 비금속 | G50: kgBOD/day | U50: 활용 통계 및 자료 출처 기입 | V50: 단위변경 등 특이사항 기재
F51: 발전수도 | G51: kgBOD/day | U51: 활용 통계 및 자료 출처 기입 | V51: 단위변경 등 특이사항 기재
F52: 폐수처리업 | G52: kgBOD/day | U52: 활용 통계 및 자료 출처 기입 | V52: 단위변경 등 특이사항 기재
F53: 금속합계 | G53: kgBOD/day | U53: 활용 통계 및 자료 출처 기입 | V53: 단위변경 등 특이사항 기재
F54: 기타_방류 | G54: kgBOD/day | U54: 활용 통계 및 자료 출처 기입 | V54: 단위변경 등 특이사항 기재
...

Sheet 에너지
B2: 선택입력
B6: ▶에너지 산업(1A1)-자체 조사자료 선택입력(미입력시 센터 자료 활용)
B7: =SUM(G11:S61) -> 0
C8: 1A1ai | D8: 전기 생산
C10: CRF code | D10: 대분류 | E10: 중분류 | F10: 단위 | G10: 2010 | H10: 2011 | I10: 2012 | J10: 2013 | K10: 2014 | L10: 2015 | M10: 2016 | N10: 2017 | O10: 2018 | P10: 2019 | Q10: 2020 | R10: 2021 | S10: 2022 | T10: 출처 | U10: 비고
C11: 1A1a | D11: 석탄 | E11: 국내무연탄 | F11: 1000 ton | T11: 활용 통계 및 자료 출처 기입 | U11: 단위변경 등 특이사항 기재
C12: 1A1a | E12: 연료용 수입무연탄 | F12: 1000 ton | T12: 활용 통계 및 자료 출처 기입 | U12: 단위변경 등 특이사항 기재
C13: 1A1a | E13: 원료용 수입무연탄 | F13: 1000 ton | T13: 활용 통계 및 자료 출처 기입 | U13: 단위변경 등 특이사항 기재
C14: 1A1a | E14: 원료용유연탄 | F14: 1000 ton | T14: 활용 통계 및 자료 출처 기입 | U14: 단위변경 등 특이사항 기재
C15: 1A1a | E15: 연료용유연탄 | F15: 1000 ton | T15: 활용 통계 및 자료 출처 기입 | U15: 단위변경 등 특이사항 기재
C16: 1A1a | E16: 아역청탄 | F16: 1000 ton | T16: 활용 통계 및 자료 출처 기입 | U16: 단위변경 등 특이사항 기재
C17: 1A1a | E17: 갈탄 | F17: 1000 ton | T17: 활용 통계 및 자료 출처 기입 | U17: 단위변경 등 특이사항 기재
C18: 1A1a | E18: 연탄 | F18: 1000 ton | T18: 활용 통계 및 자료 출처 기입 | U18: 단위변경 등 특이사항 기재
C19: 1A1a | E19: 코크스 | F19: 1000 ton | T19: 활용 통계 및 자료 출처 기입 | U19: 단위변경 등 특이사항 기재
C20: 1A1a | E20: 콜타르 | F20: 1000 ton | T20: 활용 통계 및 자료 출처 기입 | U20: 단위변경 등 특이사항 기재
C21: 1A1a | E21: 코크스가스 | F21: 1000 toe | T21: 활용 통계 및 자료 출처 기입 | U21: 단위변경 등 특이사항 기재
C22: 1A1a | E22: 고로가스 | F22: 1000 toe | T22: 활용 통계 및 자료 출처 기입 | U22: 단위변경 등 특이사항 기재
C23: 1A1a | E23: 기타석탄가스 | F23: 1000 toe | T23: 활용 통계 및 자료 출처 기입 | U23: 단위변경 등 특이사항 기재
C24: 1A1a | D24: 가스 | E24: 천연가스 | F24: 1000 ton | T24: 활용 통계 및 자료 출처 기입 | U24: 단위변경 등 특이사항 기재
C25: 1A1a | E25: 도시가스 | F25: M m3 | T25: 활용 통계 및 자료 출처 기입 | U25: 단위변경 등 특이사항 기재
C26: 1A1a | D26: 석유 | E26: 원유 | F26: 1000 bbl | T26: 활용 통계 및 자료 출처 기입 | U26: 단위변경 등 특이사항 기재
C27: 1A1a | E27: 정제원료 | F27: 1000 bbl | T27: 활용 통계 및 자료 출처 기입 | U27: 단위변경 등 특이사항 기재
C28: 1A1a | E28: 첨가물 | F28: 1000 bbl | T28: 활용 통계 및 자료 출처 기입 | U28: 단위변경 등 특이사항 기재
C29: 1A1a | E29: 기타탄화수소 | F29: 1000 bbl | T29: 활용 통계 및 자료 출처 기입 | U29: 단위변경 등 특이사항 기재
C30: 1A1a | E30: 정제가스 | F30: 1000 bbl | T30: 활용 통계 및 자료 출처 기입 | U30: 단위변경 등 특이사항 기재
C31: 1A1a | E31: 프로판 | F31: 1000 bbl | T31: 활용 통계 및 자료 출처 기입 | U31: 단위변경 등 특이사항 기재
C32: 1A1a | E32: 부탄 | F32: 1000 bbl | T32: 활용 통계 및 자료 출처 기입 | U32: 단위변경 등 특이사항 기재
C33: 1A1a | E33: 휘발유 | F33: 1000 bbl | T33: 활용 통계 및 자료 출처 기입 | U33: 단위변경 등 특이사항 기재
C34: 1A1a | E34: 항공휘발유 | F34: 1000 bbl | T34: 활용 통계 및 자료 출처 기입 | U34: 단위변경 등 특이사항 기재
C35: 1A1a | E35: 휘발유형항공유 | F35: 1000 bbl | T35: 활용 통계 및 자료 출처 기입 | U35: 단위변경 등 특이사항 기재
C36: 1A1a | E36: 등유형항공유 | F36: 1000 bbl | T36: 활용 통계 및 자료 출처 기입 | U36: 단위변경 등 특이사항 기재
C37: 1A1a | E37: 등유 | F37: 1000 bbl | T37: 활용 통계 및 자료 출처 기입 | U37: 단위변경 등 특이사항 기재
C38: 1A1a | E38: 경유 | F38: 1000 bbl | T38: 활용 통계 및 자료 출처 기입 | U38: 단위변경 등 특이사항 기재
... C50: 1A1a | E50: 기타석유제품 | F50: 1000 bbl | T50: 활용 통계 및 자료 출처 기입 | U50: 단위변경 등 특이사항 기재
C51: 1A1a | D51: 기타화석 | E51: 산업폐기물 | F51: 1000 toe | T51: 활용 통계 및 자료 출처 기입 | U51: 단위변경 등 특이사항 기재
C52: 1A1a | E52: 도시폐기물_비재생 | F52: 1000 toe | T52: 활용 통계 및 자료 출처 기입 | U52: 단위변경 등 특이사항 기재
C53: 1A1a | D53: 토탄 | E53: 토탄 | F53: 1000 ton | T53: 활용 통계 및 자료 출처 기입 | U53: 단위변경 등 특이사항 기재
C54: 1A1a | D54: 바이오매스 | E54: 고형바이오매스 | F54: 1000 toe | T54: 활용 통계 및 자료 출처 기입 | U54: 단위변경 등 특이사항 기재
C55: 1A1a | E55: 바이오가스 | F55: 1000 toe | T55: 활용 통계 및 자료 출처 기입 | U55: 단위변경 등 특이사항 기재
C56: 1A1a | E56: 매립지가스 | F56: 1000 toe | T56: 활용 통계 및 자료 출처 기입 | U56: 단위변경 등 특이사항 기재
...

Sheet 산업공정
B2: 선택입력
B6: ▶ 광물산업(2A)-자체 조사자료 선택입력(미입력시 센터 자료 활용)
B7: =SUM(G11:S11,G17:S18,G24:S27,G33:S38) -> 0
C8: 2A1 시멘트 생산
C10: CRF code | D10: 대분류 | E10: 중분류 | F10: 단위 | G10: 2010 | H10: 2011 | I10: 2012 | J10: 2013 | K10: 2014 | L10: 2015 | M10: 2016 | N10: 2017 | O10: 2018 | P10: 2019 | Q10: 2020 | R10: 2021 | S10: 2022 | T10: 출처 | U10: 비고
D11: 합계 | E11: 클링커 생산량 | F11: ton | T11: 활용 통계 및 자료 출처 기입 | U11: 단위변경 등 특이사항 기재
C14: 2A2 | D14: 석회 생산
C16: CRF code | D16: 대분류 | E16: 중분류 | F16: 단위 | G16: 2010 | H16: 2011 | I16: 2012 | J16: 2013 | K16: 2014 | L16: 2015 | M16: 2016 | N16: 2017 | O16: 2018 | P16: 2019 | Q16: 2020 | R16: 2021 | S16: 2022 | T16: 출처 | U16: 비고
C17: 1A1a | D17: 합계 | E17: 고칼슘석회생산량 | F17: ton | T17: 활용 통계 및 자료 출처 기입 | U17: 단위변경 등 특이사항 기재
D18: 합계 | E18: 고토석회생산량 | F18: ton | T18: 활용 통계 및 자료 출처 기입 | U18: 단위변경 등 특이사항 기재
C21: 2A3 | D21: 유리생산
C23: CRF code | D23: 대분류 | E23: 중분류 | F23: 단위 | G23: 2010 | H23: 2011 | I23: 2012 | J23: 2013 | K23: 2014 | L23: 2015 | M23: 2016 | N23: 2017 | O23: 2018 | P23: 2019 | Q23: 2020 | R23: 2021 | S23: 2022 | T23: 출처 | U23: 비고
C24: 1A1a | D24: 유리 생산 | E24: 유리병 생산량 | F24: ton | T24: 활용 통계 및 자료 출처 기입 | U24: 단위변경 등 특이사항 기재
C25: 1A1a | E25: 판유리 생산량 | F25: ton | T25: 활용 통계 및 자료 출처 기입 | U25: 단위변경 등 특이사항 기재
C26: 1A1a | E26: 유리섬유 생산량 | F26: ton | T26: 활용 통계 및 자료 출처 기입 | U26: 단위변경 등 특이사항 기재
C27: 1A1a | E27: 유리기판 생산량 | F27: ton | T27: 활용 통계 및 자료 출처 기입 | U27: 단위변경 등 특이사항 기재
C30: 2A4 | D30: 탄산염의 기타공정 사용
C32: CRF code | D32: 대분류 | E32: 중분류 | F32: 단위 | G32: 2010 | H32: 2011 | I32: 2012 | J32: 2013 | K32: 2014 | L32: 2015 | M32: 2016 | N32: 2017 | O32: 2018 | P32: 2019 | Q32: 2020 | R32: 2021 | S32: 2022 | T32: 출처 | U32: 비고
C33: 1A1a | D33: 소다회소비 | E33: 국내생산량 | F33: ton | T33: 활용 통계 및 자료 출처 기입 | U33: 단위변경 등 특이사항 기재
E34: 수입 무역량 | F34: ton | T34: 활용 통계 및 자료 출처 기입 | U34: 단위변경 등 특이사항 기재
E35: 수출 무역량 | F35: ton | T35: 활용 통계 및 자료 출처 기입 | U35: 단위변경 등 특이사항 기재
D36: 기타용도 | E36: 석회석 소비량 | F36: ton | T36: 활용 통계 및 자료 출처 기입 | U36: 단위변경 등 특이사항 기재
E37: 백운석 소비량 | F37: ton | T37: 활용 통계 및 자료 출처 기입 | U37: 단위변경 등 특이사항 기재
E38: 마그네사이트 소비량 | F38: ton | T38: 활용 통계 및 자료 출처 기입 | U38: 단위변경 등 특이사항 기재
B42: ▶ 화학산업(2B)-자체 조사자료 선택입력(미입력시 센터 자료 활용)
B43: =SUM(G47:S47,G53:S54,G60:S61,G67:S68,G74:S74,G80:S96,G102:S102) -> 0
C44: 2B1 | D44: 암모니아 생산
C46: CRF code | D46: 대분류 | E46: 중분류 | F46: 단위 | G46: 2010 | H46: 2011 | I46: 2012 | J46: 2013 | K46: 2014 | L46: 2015 | M46: 2016 | N46: 2017 | O46: 2018 | P46: 2019 | Q46: 2020 | R46: 2021 | S46: 2022 | T46: 출처 | U46: 비고
C47: 1A1a | D47: 합계 | E47: 암모니아 생산량 | F47: ton | T47: 활용 통계 및 자료 출처 기입 | U47: 단위변경 등 특이사항 기재
C50: 2B2 | D50: 질산 생산
C52: CRF code | D52: 대분류 | E52: 중분류 | F52: 단위 | G52: 2010 | H52: 2011 | I52: 2012 | J52: 2013 | K52: 2014 | L52: 2015 | M52: 2016 | N52: 2017 | O52: 2018 | P52: 2019 | Q52: 2020 | R52: 2021 | S52: 2022 | T52: 출처 | U52: 비고
D53: 합계 | E53: 질산 생산량 | F53: ton | T53: 활용 통계 및 자료 출처 기입 | U53: 단위변경 등 특이사항 기재
D54: 합계 | E54: 배출량 | F54: tonN2O | T54: 활용 통계 및 자료 출처 기입 | U54: 단위변경 등 특이사항 기재
C57: 2B3 | D57: 아디프산 생산
C59: CRF code | D59: 대분류 | E59: 중분류 | F59: 단위 | G59: 2010 | H59: 2011 | I59: 2012 | J59: 2013 | K59: 2014 | L59: 2015 | M59: 2016 | N59: 2017 | O59: 2018 | P59: 2019 | Q59: 2020 | R59: 2021 | S59: 2022 | T59: 출처 | U59: 비고
D60: 합계 | E60: 아디프산 생산량 | F60: ton | T60: 활용 통계 및 자료 출처 기입 | U60: 단위변경 등 특이사항 기재
D61: 합계 | E61: 배출량 | F61: tonN2O | T61: 활용 통계 및 자료 출처 기입 | U61: 단위변경 등 특이사항 기재
C64: 2B4 | D64: 카프로락탐 생산
C66: CRF code | D66: 대분류 | E66: 중분류 | F66: 단위 | G66: 2010 | H66: 2011 | I66: 2012 | J66: 2013 | K66: 2014 | L66: 2015 | M66: 2016 | N66: 2017 | O66: 2018 | P66: 2019 | Q66: 2020 | R66: 2021 | S66: 2022 | T66: 출처 | U66: 비고
D67: 합계 | E67: 카프로락탐 생산량 | F67: ton | T67: 활용 통계 및 자료 출처 기입 | U67: 단위변경 등 특이사항 기재
...

Sheet 간접배출
B2: 선택입력
B5: ▶전력 소비(6A)-자체 조사자료 입력(미입력시 센터 자료 활용)
B6: =SUM(I10:U46) -> 0
C7: 6A 전력 소비량
C9: CRF code | D9: 구분 | F9: 부문 | G9: 연료명 | H9: 단위 | I9: 2010 | J9: 2011 | K9: 2012 | L9: 2013 | M9: 2014 | N9: 2015 | O9: 2016 | P9: 2017 | Q9: 2018 | R9: 2019 | S9: 2020 | T9: 2021 | U9: 2022 | V9: 출처 | W9: 비고
D10: 한국전력통계 | F10: 가정용 | G10: 가정용 | H10: GWh | V10: 활용 통계 및 자료 출처 기입 | W10: 단위변경 등 특이사항 기재
F11: 공공용 | G11: 공공용 | H11: GWh | V11: 활용 통계 및 자료 출처 기입 | W11: 단위변경 등 특이사항 기재
F12: 서비스업 | G12: 전철 | H12: GWh | V12: 활용 통계 및 자료 출처 기입 | W12: 단위변경 등 특이사항 기재
G13: 수도 | H13: GWh | V13: 활용 통계 및 자료 출처 기입 | W13: 단위변경 등 특이사항 기재
G14: 사업자용 | H14: GWh | V14: 활용 통계 및 자료 출처 기입 | W14: 단위변경 등 특이사항 기재
G15: 순수서비스 | H15: GWh | V15: 활용 통계 및 자료 출처 기입 | W15: 단위변경 등 특이사항 기재
F16: 농림어업 | G16: 농림어업 | H16: GWh | V16: 활용 통계 및 자료 출처 기입 | W16: 단위변경 등 특이사항 기재
F17: 광업 | G17: 광업 | H17: GWh | V17: 활용 통계 및 자료 출처 기입 | W17: 단위변경 등 특이사항 기재
F18: 제조업 | G18: 식료품 | H18: GWh | V18: 활용 통계 및 자료 출처 기입 | W18: 단위변경 등 특이사항 기재
G19: 식료품 제조 | H19: GWh | V19: 활용 통계 및 자료 출처 기입 | W19: 단위변경 등 특이사항 기재
G20: 음료품 제조 | H20: GWh | V20: 활용 통계 및 자료 출처 기입 | W20: 단위변경 등 특이사항 기재
G21: 담배 제조업 | H21: GWh | V21: 활용 통계 및 자료 출처 기입 | W21: 단위변경 등 특이사항 기재
G22: 섬유, 의복 | H22: GWh | V22: 활용 통계 및 자료 출처 기입 | W22: 단위변경 등 특이사항 기재
G23: 섬유 | H23: GWh | V23: 활용 통계 및 자료 출처 기입 | W23: 단위변경 등 특이사항 기재
G24: 의복, 모피 | H24: GWh | V24: 활용 통계 및 자료 출처 기입 | W24: 단위변경 등 특이사항 기재
G25: 가죽, 신발 | H25: GWh | V25: 활용 통계 및 자료 출처 기입 | W25: 단위변경 등 특이사항 기재
G26: 목재, 나무 | H26: GWh | V26: 활용 통계 및 자료 출처 기입 | W26: 단위변경 등 특이사항 기재
G27: 플프, 종이 | H27: GWh | V27: 활용 통계 및 자료 출처 기입 | W27: 단위변경 등 특이사항 기재
G28: 출판, 인쇄 | H28: GWh | V28: 활용 통계 및 자료 출처 기입 | W28: 단위변경 등 특이사항 기재
G29: 석유, 화학 | H29: GWh | V29: 활용 통계 및 자료 출처 기입 | W29: 단위변경 등 특이사항 기재
G30: 석유정제 | H30: GWh | V30: 활용 통계 및 자료 출처 기입 | W30: 단위변경 등 특이사항 기재
... G46: 재생재료처리 | H46: GWh | V46: 활용 통계 및 자료 출처 기입 | W46: 단위변경 등 특이사항 기재
B50: ▶열 소비(6B)-자체 조사자료 선택입력(미입력시 센터 자료 활용)
B51: =SUM(I55:U58) -> 0
C52: 6B 열 소비량
C54: CRF code | D54: 대분류 | F54: 연료명 | G54: 연료명 | H54: 단위 | I54: 2010 | J54: 2011 | K54: 2012 | L54: 2013 | M54: 2014 | N54: 2015 | O54: 2016 | P54: 2017 | Q54: 2018 | R54: 2019 | S54: 2020 | T54: 2021 | U54: 2022 | V54: 출처 | W54: 비고
D55: 에너지밸런스 | F55: 가정부문 | G55: 가정용 | H55: 1000toe | V55: 활용 통계 및 자료 출처 기입 | W55: 단위변경 등 특이사항 기재
F56: 상업부문 | G56: 상업용 | H56: 1000toe | V56: 활용 통계 및 자료 출처 기입 | W56: 단위변경 등 특이사항 기재
F57: 공공부문 | G57: 공공용 | H57: 1000toe | V57: 활용 통계 및 자료 출처 기입 | W57: 단위변경 등 특이사항 기재
F58: 산업단지 | G58: 산업용 | H58: 1000toe | V58: 활용 통계 및 자료 출처 기입 | W58: 단위변경 등 특이사항 기재
B61: ▶폐기물 발생(6C)- 전국 폐기물 발생 및 처리현황, 하수도통계 자료 선택입력(미입력시 센터에서 입력)
B62: =SUM(H66:J102,H108:J137,H143:J160,H166:J189,H195:J231,H237:T238,H245:J274,H333:T339) -> 0
C63: 6C1 생활폐기물 매립(발생량)
C65: CRF code | D65: 대분류 | E65: 중분류 | F65: 소분류 | G65: 단위 | H65: 2020 | I65: 2021 | J65: 2022 | K65: 출처 | L65: 비고
D66: 종량제방식 등 혼합배출 | E66: 가연성 | F66: 폐지류 | G66: ton/year | K66: 활용 통계 및 자료 출처 기입 | L66: 단위변경 등 특이사항 기재
...
