Workbook
Name _red1: #REF!
Name _red1: #REF!
Name _red1: #REF!
Name _red1: #REF!
Name _red1: #REF!
Name _red1: #REF!
Name _red1: #REF!
Name _red1: #REF!
Name _red1: #REF!
Name _red1: #REF!
Name datecode1: #REF!
Name datecode1: #REF!
Name datecode1: #REF!
Name datecode1: #REF!
Name datecode1: #REF!
Name datecode1: #REF!
Name datecode1: #REF!
Name datecode1: #REF!
Name datecode1: #REF!
Name KS_E_3707: #REF!
Name KS_E_3707: #REF!
Name KS_E_3707: #REF!
Name KS_E_3707: #REF!
Name KS_E_3707: #REF!
Name KS_E_3707: #REF!
Name KS_E_3707: #REF!
Name KS_E_3707: #REF!
Name LOV_ActiveList: #REF!
Name LOV_ActiveList: #REF!
Name LOV_ActiveList: #REF!
Name LOV_ActiveList: #REF!
Name LOV_ActiveList: #REF!
Name LOV_ActiveList: #REF!
Name LOV_ActiveList: #REF!
Name LOV_ActiveList: #REF!
Name LOV_ActiveList: #REF!
Name LOV_ODBCDataSource: #REF!
Name LOV_ODBCDataSource: #REF!
Name LOV_ODBCDataSource: #REF!
Name LOV_ODBCDataSource: #REF!
Name LOV_ODBCDataSource: #REF!
Name LOV_ODBCDataSource: #REF!
Name LOV_ODBCDataSource: #REF!
Name LOV_ODBCDataSource: #REF!
Name LOV_ODBCDataSource: #REF!
Name LOV_Properties: #REF!
Name LOV_Properties: #REF!
Name LOV_Properties: #REF!
Name LOV_Properties: #REF!
Name LOV_Properties: #REF!
Name LOV_Properties: #REF!
Name LOV_Properties: #REF!
Name LOV_Properties: #REF!
Name LOV_Properties: #REF!
Name LOV_ResampleMethod: #REF!
Name LOV_ResampleMethod: #REF!
Name LOV_ResampleMethod: #REF!
Name LOV_ResampleMethod: #REF!
Name LOV_ResampleMethod: #REF!
Name LOV_ResampleMethod: #REF!

Sheet 개요
V4: 1. 시트설명 | AH4: 3. 시트구성 및 작성확인 * 항목선택시 시트이동
V5: ① (배경) 조사목적 및 관련법령 설명 시트
C6: 2024년 지역 온실가스 통계 기초자료 작성 조사표 | V6: ② (담당) 주작성자 및 자료담당자의 인적사항을 기재하는 시트 | AH6: 농업_필수 | AJ6: 장내발효(3A)/가축분뇨처리(3B) | AK6: =IF(농업_필수!$B$8<>0,"작성", "미작성") -> 미작성 | AO6: 농업_기타 | AQ6: 장내발효(3A)/가축분뇨처리(3B) | AR6: =IF(농업_기타!$B$8<>0,"작성", "미작성") -> 미작성 | AV6: 에너지 | AX6: 에너지산업(1A1) | AY6: =IF(에너지!$B$7<>0,"작성", "미작성") -> 미작성
V7: ③ (분야) 각 분야에 대하여 기초자료를 입력하는 시트 | AJ7: 벼재배(3C) | AK7: =IF(농업_필수!$B$25<>0,"작성", "미작성") -> 미작성 | AQ7: 벼재배(3C) | AR7: =IF(농업_기타!$B$82<>0,"작성", "미작성") -> 미작성 | AX7: 제조업 및 건설업(1A2) | AY7: =IF(에너지!$B$351<>0,"작성", "미작성") -> 미작성
AJ8: 농경지토양(3D)/작물잔사소각(3F) | AK8: =IF(농업_필수!$B$40<>0,"작성", "미작성") -> 미작성 | AQ8: 농경지토양(3D)/작물잔사소각(3F) | AR8: =IF(농업_기타!$B$147<>0,"작성", "미작성") -> 미작성 | AX8: 수송(1A3) | AY8: =IF(에너지!$B$1094<>0,"작성", "미작성") -> 미작성
AQ9: 석회시용(3G)/요소시용(3H) | AR9: =IF(농업_기타!$B$181<>0,"작성", "미작성") -> 미작성 | AX9: 기타(1A4) | AY9: =IF(에너지!$B$1442<>0,"작성", "미작성") -> 미작성
AH10: LULUCF_필수 | AJ10: 산림지(4A) | AK10: =IF(LULUCF_필수!$B$7<>0,"작성", "미작성") -> 미작성 | AX10: 미분류(1A5) | AY10: =IF(에너지!$B$1786<>0,"작성", "미작성") -> 미작성
AJ11: 농경지(4B) | AK11: =IF(LULUCF_필수!$B$21<>0,"작성", "미작성") -> 미작성 | AO11: LULUCF_기타 | AQ11: 수확된 목재제품(4G) | AR11: =IF(LULUCF_기타!$B$8<>0,"작성", "미작성") -> 미작성 | AX11: 탈루배출(1B) | AY11: =IF(에너지!$B$1845<>0,"작성", "미작성") -> 미작성
V12: 2. 입력안내 | AJ12: 초지(4C) | AK12: =IF(LULUCF_필수!$B$31<>0,"작성", "미작성") -> 미작성
V13: ① 양식의 단위와 확보자료의 단위가 상이한 경우, 확보자료 수치 입력 | AJ13: 습지(4D) | AK13: =IF(LULUCF_필수!$B$40<>0,"작성", "미작성") -> 미작성 | AO13: 폐기물_기타 | AQ13: 고형폐기물의 생물학적처리(5B) | AR13: =IF(폐기물_기타!$B$8<>0,"작성", "미작성") -> 미작성 | AV13: 산업공정 | AX13: 광물산업(2A) | AY13: =IF(산업공정!$B$7<>0,"작성", "미작성") -> 미작성
V14: ② 기초자료 미입력시 센터에서 일괄입력 또는 자료요청 진행 | AQ14: 하폐수처리(5D) | AR14: =IF(폐기물_기타!$B$19<>0,"작성", "미작성") -> 미작성 | AX14: 화학산업(2B) | AY14: =IF(산업공정!$B$43<>0,"작성", "미작성") -> 미작성
V15: ③ 필수입력 : 농업_필수, LULUCF_필수, 폐기물_필수 | AH15: 폐기물_필수 | AJ15: 폐기물매립(5A) | AK15: =IF(폐기물_필수!$B$7<>0,"작성", "미작성") -> 미작성 | AX15: 금속산업(2C) | AY15: =IF(산업공정!$B$107<>0,"작성", "미작성") -> 미작성
V16: ④ 선택입력 : 에너지, 산업공정, 간접배출, 농업_기타, LULUCF_기타, 폐기물_기타 | AJ16: 폐기물소각(5C) | AK16: =IF(폐기물_필수!$B$138<>0,"작성", "미작성") -> 미작성 | AX16: 비에너지 제품 및 용매 사용(2D) | AY16: =IF(산업공정!$B$163<>0,"작성", "미작성") -> 미작성
AJ17: 하폐수처리(5D) | AK17: =IF(폐기물_필수!$B$271<>0,"작성", "미작성") -> 미작성 | AX17: 전자산업(2E) | AY17: =IF(산업공정!$B$180<>0,"작성", "미작성") -> 미작성
AX18: 기타제품 제조 및 사용(2G) | AY18: =IF(산업공정!$B$246<>0,"작성", "미작성") -> 미작성
AV20: 간접배출 | AX20: 전력(6A) | AY20: =IF(간접배출!$B$6<>0,"작성", "미작성") -> 미작성
AX21: 열(6B) | AY21: =IF(간접배출!$B$51<>0,"작성", "미작성") -> 미작성
AX22: 폐기물(6C) | AY22: =IF(간접배출!$B$62<>0,"작성", "미작성") -> 미작성

Sheet 배경
C3: □ 작성배경
D5: □「제2차 기후변화대응 기본계획(‘20~’40)」 수립(‘19.10)으로, 국가 온실가스 감축목표 달성을 위한 지자체의 역할이 확대
D7: ㅇ 지자체 계획수립 및 이행평가의 지표로서 국가 인벤토리와 연계 가능하고 지역특성이 반영된 지역별 배출량 통계가 필요
D9: □「기후위기 대응을 위한 탄소중립·녹색성장 기본법」 및 동법 시행령 제정으로, 시·도 및 시·군·구 지자체는 상향된 국가감축목표*(NDC)와 연계한 지역 배출량 감축 기본계획 수립·시행 의무화
D11: * 국가 온실가스 배출량을 2030년까지 2018년 대비 40% 감축
D13: ㅇ 법 제11조, 제12조 및 시행령안 제6조, 제7조에 따라, 시·도 및 시·군·구 지자체는 탄소중립 녹색성장 기본계획을 수립·시행하여야 함
D16: < 법 제11조(시ㆍ도 계획의 수립 등) >
D18: ① 특별시장ㆍ광역시장ㆍ특별자치시장ㆍ도지사 및 특별자치도지사(이하 “시ㆍ도지사”라 한다)는 국가기본계획과 관할 구역의 지역적 특성 등을 고려하여 10년을 계획기간으로 하는 시ㆍ도 탄소중립 녹색성장 기본계획(이하 “시ㆍ도계획”이라 한다)을 5년마다 수립ㆍ시행하여야 한다.
D20: < 법 제12조(시ㆍ군ㆍ구 계획의 수립 등) >
D22: ① 시장ㆍ군수ㆍ구청장(자치구의 구청장을 말한다. 이하 같다)은 국가기본계획, 시ㆍ도계획과 관할 구역의 지역적 특성 등을 고려하여 10년을 계획기간으로 하는 시ㆍ군ㆍ구 탄소중립 녹색성장 기본계획 (이하 “시ㆍ군ㆍ구계획”이라 한다)을 5년마다 수립ㆍ시행하여야 한다.
D24: < 시행령 제6조(탄소중립시ㆍ도 계획의 수립 등) >
D26: ① 특별시장ㆍ광역시장ㆍ특별자치시장ㆍ도지사 및 특별자치도지사(이하 “시ㆍ도지사”라 한다)는 탄소중립국가기본계획이 수립되거나 변경(법 제10조제3항 단서에 따른 경미한 사항이 변경된 경우는 제외한다)된 날부터 6개월 이내에 법 제11조제1항에 따른 시ㆍ도 탄소중립 녹색성장 기본계획(이하 “탄소중립시ㆍ도계획”이라 한다)을 수립하거나 변경해야 한다.
D28: < 시행령 제7조(탄소중립시ㆍ군ㆍ구 계획의 수립 등) >
... D49: ⑪ 법 제36조제5항에 따라 온실가스종합정보센터는 제5항 및 제6항에 따라 제출받은 정보ㆍ통계를 분석ㆍ검증한 결과를 매년 12월 31일까지 온실가스종합정보센터의 인터넷 홈페이지에 공개해야 한다.

Sheet 담당
B2: 1. 작성 담당자 - 조사표 취합 및 총괄
B3: 광역 | C3: 기초 | D3: 소속 | E3: 직급 | F3: 이름 | G3: 전화번호 | H3: 이메일 | I3: 2023년 조사표 작성 여부
B4: ex) 서울 | C4: OO구 | D4: OO국 OO과 | E4: OO | F4: OOO | G4: 02-XXXX-XXXX | H4: abcdefg@korea.kr | I4: O/X
B7: 2. 기초자료 담당자
B8: 광역 | C8: 기초 | D8: 소속 | E8: 직급 | F8: 이름 | G8: 전화번호 | H8: 이메일 | I8: 제출 자료

Sheet 농업_필수
B2: 농업_필수입력
B7: ▶ 장내발효(3A)/가축분뇨처리(3B)-가축사육두수(지자체 통계연보 활용)
B8: =SUM(G12:U20) -> 0
C9: 3A, 3B | D9: 가축사육두수
C11: CRF code | D11: 대분류 | E11: 중분류 | F11: 단위 | G11: 2008 | H11: 2009 | I11: 2010 | J11: 2011 | K11: 2012 | L11: 2013 | M11: 2014 | N11: 2015 | O11: 2016 | P11: 2017 | Q11: 2018 | R11: 2019 | S11: 2020 | T11: 2021 | U11: 2022 | V11: 출처 | W11: 비고
D12: 젖소 | E12: 젖소 | F12: 두수 | V12: 활용 통계 및 자료 출처 기입 | W12: 단위변경 등 특이사항 기재
D13: 한육우 | E13: 한육우 | F13: 두수 | V13: 활용 통계 및 자료 출처 기입 | W13: 단위변경 등 특이사항 기재
D14: 돼지 | E14: 돼지 | F14: 두수 | V14: 활용 통계 및 자료 출처 기입 | W14: 단위변경 등 특이사항 기재
D15: 닭 | E15: 닭 | F15: 두수 | V15: 활용 통계 및 자료 출처 기입 | W15: 단위변경 등 특이사항 기재
D16: 오리 | E16: 오리 | F16: 두수 | V16: 활용 통계 및 자료 출처 기입 | W16: 단위변경 등 특이사항 기재
D17: 양(면양) | E17: 양(면양) | F17: 두수 | V17: 활용 통계 및 자료 출처 기입 | W17: 단위변경 등 특이사항 기재
D18: 염소(산양) | E18: 염소(산양) | F18: 두수 | V18: 활용 통계 및 자료 출처 기입 | W18: 단위변경 등 특이사항 기재
D19: 말 | E19: 말 | F19: 두수 | V19: 활용 통계 및 자료 출처 기입 | W19: 단위변경 등 특이사항 기재
D20: 사슴 | E20: 사슴 | F20: 두수 | V20: 활용 통계 및 자료 출처 기입 | W20: 단위변경 등 특이사항 기재
B24: ▶ 벼재배(3C)-재배면적(지자체 통계연보 활용)
B25: =SUM(G29:U35) -> 0
C26: 3C | D26: 벼 재배면적
C28: CRF code | D28: 대분류 | E28: 중분류 | F28: 단위 | G28: 2008 | H28: 2009 | I28: 2010 | J28: 2011 | K28: 2012 | L28: 2013 | M28: 2014 | N28: 2015 | O28: 2016 | P28: 2017 | Q28: 2018 | R28: 2019 | S28: 2020 | T28: 2021 | U28: 2022 | V28: 출처 | W28: 비고
C29: 1A1a | D29: 재배면적 | E29: 논벼 | F29: ha | V29: 활용 통계 및 자료 출처 기입 | W29: 단위변경 등 특이사항 기재
E30: 밭벼 | F30: ha | V30: 활용 통계 및 자료 출처 기입 | W30: 단위변경 등 특이사항 기재
E31: 겉보리 | F31: ha | V31: 활용 통계 및 자료 출처 기입 | W31: 단위변경 등 특이사항 기재
E32: 쌀보리 | F32: ha | V32: 활용 통계 및 자료 출처 기입 | W32: 단위변경 등 특이사항 기재
E33: 밀 | F33: ha | V33: 활용 통계 및 자료 출처 기입 | W33: 단위변경 등 특이사항 기재
E34: 호밀 | F34: ha | V34: 활용 통계 및 자료 출처 기입 | W34: 단위변경 등 특이사항 기재
E35: 맥주보리 | F35: ha | V35: 활용 통계 및 자료 출처 기입 | W35: 단위변경 등 특이사항 기재
B39: ▶ 농경지토양(3D)/잔사작물소각(3F)-작물별 재배면적 및 생산량(지자체 통계연보 활용)
B40: =SUM(G45:U56,G62:U73) -> 0
C42: 3D/3F | D42: 작물별 재배면적
C44: CRF code | D44: 대분류 | E44: 중분류 | F44: 단위 | G44: 2008 | H44: 2009 | I44: 2010 | J44: 2011 | K44: 2012 | L44: 2013 | M44: 2014 | N44: 2015 | O44: 2016 | P44: 2017 | Q44: 2018 | R44: 2019 | S44: 2020 | T44: 2021 | U44: 2022 | V44: 출처 | W44: 비고
D45: 작물별 재배면적 | E45: 잡곡_옥수수 | F45: ha | V45: 활용 통계 및 자료 출처 기입 | W45: 단위변경 등 특이사항 기재
E46: 두류_콩 | F46: ha | V46: 활용 통계 및 자료 출처 기입 | W46: 단위변경 등 특이사항 기재
E47: 두류_팥 | F47: ha | V47: 활용 통계 및 자료 출처 기입 | W47: 단위변경 등 특이사항 기재
E48: 두류_녹두 | F48: ha | V48: 활용 통계 및 자료 출처 기입 | W48: 단위변경 등 특이사항 기재
E49: 두류_기타 | F49: ha | V49: 활용 통계 및 자료 출처 기입 | W49: 단위변경 등 특이사항 기재
E50: 서류_감자 | F50: ha | V50: 활용 통계 및 자료 출처 기입 | W50: 단위변경 등 특이사항 기재
E51: 서류_고구마 | F51: ha | V51: 활용 통계 및 자료 출처 기입 | W51: 단위변경 등 특이사항 기재
E52: 채소류_배추 | F52: ha | V52: 활용 통계 및 자료 출처 기입 | W52: 단위변경 등 특이사항 기재
E53: 채소류_고추 | F53: ha | V53: 활용 통계 및 자료 출처 기입 | W53: 단위변경 등 특이사항 기재
E54: 채소류_마늘 | F54: ha | V54: 활용 통계 및 자료 출처 기입 | W54: 단위변경 등 특이사항 기재
E55: 채소류_양파 | F55: ha | V55: 활용 통계 및 자료 출처 기입 | W55: 단위변경 등 특이사항 기재
E56: 특용작물_참깨 | F56: ha | V56: 활용 통계 및 자료 출처 기입 | W56: 단위변경 등 특이사항 기재
C59: 3D/3F | D59: 작물별 생산량
C61: CRF code | D61: 대분류 | E61: 중분류 | F61: 단위 | G61: 2008 | H61: 2009 | I61: 2010 | J61: 2011 | K61: 2012 | L61: 2013 | M61: 2014 | N61: 2015 | O61: 2016 | P61: 2017 | Q61: 2018 | R61: 2019 | S61: 2020 | T61: 2021 | U61: 2022 | V61: 출처 | W61: 비고
D62: 작물별 생산량 | E62: 잡곡_옥수수 | F62: ton | V62: 활용 통계 및 자료 출처 기입 | W62: 단위변경 등 특이사항 기재
E63: 두류_콩 | F63: ton | V63: 활용 통계 및 자료 출처 기입 | W63: 단위변경 등 특이사항 기재
E64: 두류_팥 | F64: ton | V64: 활용 통계 및 자료 출처 기입 | W64: 단위변경 등 특이사항 기재
E65: 두류_녹두 | F65: ton | V65: 활용 통계 및 자료 출처 기입 | W65: 단위변경 등 특이사항 기재
E66: 두류_기타 | F66: ton | V66: 활용 통계 및 자료 출처 기입 | W66: 단위변경 등 특이사항 기재
E67: 서류_감자 | F67: ton | V67: 활용 통계 및 자료 출처 기입 | W67: 단위변경 등 특이사항 기재
E68: 서류_고구마 | F68: ton | V68: 활용 통계 및 자료 출처 기입 | W68: 단위변경 등 특이사항 기재
E69: 채소류_배추 | F69: ton | V69: 활용 통계 및 자료 출처 기입 | W69: 단위변경 등 특이사항 기재
E70: 채소류_고추 | F70: ton | V70: 활용 통계 및 자료 출처 기입 | W70: 단위변경 등 특이사항 기재
E71: 채소류_마늘 | F71: ton | V71: 활용 통계 및 자료 출처 기입 | W71: 단위변경 등 특이사항 기재
E72: 채소류_양파 | F72: ton | V72: 활용 통계 및 자료 출처 기입 | W72: 단위변경 등 특이사항 기재
E73: 특용작물_참깨 | F73: ton | V73: 활용 통계 및 자료 출처 기입 | W73: 단위변경 등 특이사항 기재

Sheet 농업_기타
B2: 농업_필수입력_기타
B7: ▶ 장내발효(3A)/가축분뇨처리(3B)-가축사육두수(지자체 통계연보 활용)
B8: =SUM(I12:U77) -> 0
C9: 3B | D9: 가축분뇨처리시설 이용비율
C11: CRF code | D11: 대분류 | E11: 중분류 | F11: 단위 | G11: 2008 | H11: 2009 | I11: 2010 | J11: 2011 | K11: 2012 | L11: 2013 | M11: 2014 | N11: 2015 | O11: 2016 | P11: 2017 | Q11: 2018 | R11: 2019 | S11: 2020 | T11: 2021 | U11: 2022 | V11: 출처 | W11: 비고
D12: 퇴비화 | E12: 젖소 | F12: % | V12: 활용 통계 및 자료 출처 기입 | W12: 단위변경 등 특이사항 기재
E13: 한육우 | F13: % | V13: 활용 통계 및 자료 출처 기입 | W13: 단위변경 등 특이사항 기재
E14: 돼지(비육용) | F14: % | V14: 활용 통계 및 자료 출처 기입 | W14: 단위변경 등 특이사항 기재
E15: 돼지(번식용) | F15: % | V15: 활용 통계 및 자료 출처 기입 | W15: 단위변경 등 특이사항 기재
E16: 닭(산란) | F16: % | V16: 활용 통계 및 자료 출처 기입 | W16: 단위변경 등 특이사항 기재
E17: 닭(육계) | F17: % | V17: 활용 통계 및 자료 출처 기입 | W17: 단위변경 등 특이사항 기재
E18: 오리 | F18: % | V18: 활용 통계 및 자료 출처 기입 | W18: 단위변경 등 특이사항 기재
E19: 양(면양) | F19: % | V19: 활용 통계 및 자료 출처 기입 | W19: 단위변경 등 특이사항 기재
E20: 염소(산양) | F20: % | V20: 활용 통계 및 자료 출처 기입 | W20: 단위변경 등 특이사항 기재
E21: 말 | F21: % | V21: 활용 통계 및 자료 출처 기입 | W21: 단위변경 등 특이사항 기재
E22: 사슴 | F22: % | V22: 활용 통계 및 자료 출처 기입 | W22: 단위변경 등 특이사항 기재
D23: 액비화 | E23: 젖소 | F23: % | V23: 활용 통계 및 자료 출처 기입 | W23: 단위변경 등 특이사항 기재
E24: 한육우 | F24: % | V24: 활용 통계 및 자료 출처 기입 | W24: 단위변경 등 특이사항 기재
E25: 돼지(비육용) | F25: % | V25: 활용 통계 및 자료 출처 기입 | W25: 단위변경 등 특이사항 기재
E26: 돼지(번식용) | F26: % | V26: 활용 통계 및 자료 출처 기입 | W26: 단위변경 등 특이사항 기재
E27: 닭(산란) | F27: % | V27: 활용 통계 및 자료 출처 기입 | W27: 단위변경 등 특이사항 기재
E28: 닭(육계) | F28: % | V28: 활용 통계 및 자료 출처 기입 | W28: 단위변경 등 특이사항 기재
E29: 오리 | F29: % | V29: 활용 통계 및 자료 출처 기입 | W29: 단위변경 등 특이사항 기재
E30: 양(면양) | F30: % | V30: 활용 통계 및 자료 출처 기입 | W30: 단위변경 등 특이사항 기재
E31: 염소(산양) | F31: % | V31: 활용 통계 및 자료 출처 기입 | W31: 단위변경 등 특이사항 기재
E32: 말 | F32: % | V32: 활용 통계 및 자료 출처 기입 | W32: 단위변경 등 특이사항 기재
E33: 사슴 | F33: % | V33: 활용 통계 및 자료 출처 기입 | W33: 단위변경 등 특이사항 기재
D34: 퇴액비화 | E34: 젖소 | F34: % | V34: 활용 통계 및 자료 출처 기입 | W34: 단위변경 등 특이사항 기재
E35: 한육우 | F35: % | V35: 활용 통계 및 자료 출처 기입 | W35: 단위변경 등 특이사항 기재
E36: 돼지(비육용) | F36: % | V36: 활용 통계 및 자료 출처 기입 | W36: 단위변경 등 특이사항 기재
E37: 돼지(번식용) | F37: % | V37: 활용 통계 및 자료 출처 기입 | W37: 단위변경 등 특이사항 기재
E38: 닭(산란) | F38: % | V38: 활용 통계 및 자료 출처 기입 | W38: 단위변경 등 특이사항 기재
E39: 닭(육계) | F39: % | V39: 활용 통계 및 자료 출처 기입 | W39: 단위변경 등 특이사항 기재
E40: 오리 | F40: % | V40: 활용 통계 및 자료 출처 기입 | W40: 단위변경 등 특이사항 기재
E41: 양(면양) | F41: % | V41: 활용 통계 및 자료 출처 기입 | W41: 단위변경 등 특이사항 기재
E42: 염소(산양) | F42: % | V42: 활용 통계 및 자료 출처 기입 | W42: 단위변경 등 특이사항 기재
E43: 말 | F43: % | V43: 활용 통계 및 자료 출처 기입 | W43: 단위변경 등 특이사항 기재
E44: 사슴 | F44: % | V44: 활용 통계 및 자료 출처 기입 | W44: 단위변경 등 특이사항 기재
D45: 정화 | E45: 젖소 | F45: % | V45: 활용 통계 및 자료 출처 기입 | W45: 단위변경 등 특이사항 기재
E46: 한육우 | F46: % | V46: 활용 통계 및 자료 출처 기입 | W46: 단위변경 등 특이사항 기재
E47: 돼지(비육용) | F47: % | V47: 활용 통계 및 자료 출처 기입 | W47: 단위변경 등 특이사항 기재
E48: 돼지(번식용) | F48: % | V48: 활용 통계 및 자료 출처 기입 | W48: 단위변경 등 특이사항 기재
E49: 닭(산란) | F49: % | V49: 활용 통계 및 자료 출처 기입 | W49: 단위변경 등 특이사항 기재
E50: 닭(육계) | F50: % | V50: 활용 통계 및 자료 출처 기입 | W50: 단위변경 등 특이사항 기재
E51: 오리 | F51: % | V51: 활용 통계 및 자료 출처 기입 | W51: 단위변경 등 특이사항 기재
E52: 양(면양) | F52: % | V52: 활용 통계 및 자료 출처 기입 | W52: 단위변경 등 특이사항 기재
E53: 염소(산양) | F53: % | V53: 활용 통계 및 자료 출처 기입 | W53: 단위변경 등 특이사항 기재
E54: 말 | F54: % | V54: 활용 통계 및 자료 출처 기입 | W54: 단위변경 등 특이사항 기재
E55: 사슴 | F55: % | V55: 활용 통계 및 자료 출처 기입 | W55: 단위변경 등 특이사항 기재
D56: 위탁 | E56: 젖소 | F56: % | V56: 활용 통계 및 자료 출처 기입 | W56: 단위변경 등 특이사항 기재
E57: 한육우 | F57: % | V57: 활용 통계 및 자료 출처 기입 | W57: 단위변경 등 특이사항 기재
E58: 돼지(비육용) | F58: % | V58: 활용 통계 및 자료 출처 기입 | W58: 단위변경 등 특이사항 기재
E59: 돼지(번식용) | F59: % | V59: 활용 통계 및 자료 출처 기입 | W59: 단위변경 등 특이사항 기재
E60: 닭(산란) | F60: % | V60: 활용 통계 및 자료 출처 기입 | W60: 단위변경 등 특이사항 기재
E61: 닭(육계) | F61: % | V61: 활용 통계 및 자료 출처 기입 | W61: 단위변경 등 특이사항 기재
E62: 오리 | F62: % | V62: 활용 통계 및 자료 출처 기입 | W62: 단위변경 등 특이사항 기재
E63: 양(면양) | F63: % | V63: 활용 통계 및 자료 출처 기입 | W63: 단위변경 등 특이사항 기재
E64: 염소(산양) | F64: % | V64: 활용 통계 및 자료 출처 기입 | W64: 단위변경 등 특이사항 기재
E65: 말 | F65: % | V65: 활용 통계 및 자료 출처 기입 | W65: 단위변경 등 특이사항 기재
E66: 사슴 | F66: % | V66: 활용 통계 및 자료 출처 기입 | W66: 단위변경 등 특이사항 기재
D67: 기타 | E67: 젖소 | F67: % | V67: 활용 통계 및 자료 출처 기입 | W67: 단위변경 등 특이사항 기재
E68: 한육우 | F68: % | V68: 활용 통계 및 자료 출처 기입 | W68: 단위변경 등 특이사항 기재
E69: 돼지(비육용) | F69: % | V69: 활용 통계 및 자료 출처 기입 | W69: 단위변경 등 특이사항 기재
E70: 돼지(번식용) | F70: % | V70: 활용 통계 및 자료 출처 기입 | W70: 단위변경 등 특이사항 기재
E71: 닭(산란) | F71: % | V71: 활용 통계 및 자료 출처 기입 | W71: 단위변경 등 특이사항 기재
E72: 닭(육계) | F72: % | V72: 활용 통계 및 자료 출처 기입 | W72: 단위변경 등 특이사항 기재
E73: 오리 | F73: % | V73: 활용 통계 및 자료 출처 기입 | W73: 단위변경 등 특이사항 기재
E74: 양(면양) | F74: % | V74: 활용 통계 및 자료 출처 기입 | W74: 단위변경 등 특이사항 기재
E75: 염소(산양) | F75: % | V75: 활용 통계 및 자료 출처 기입 | W75: 단위변경 등 특이사항 기재
E76: 말 | F76: % | V76: 활용 통계 및 자료 출처 기입 | W76: 단위변경 등 특이사항 기재
E77: 사슴 | F77: % | V77: 활용 통계 및 자료 출처 기입 | W77: 단위변경 등 특이사항 기재
B81: ▶ 벼재배(3C)-재배면적(지자체 통계연보 활용)
B82: =SUM(I86:U87) -> 0
C83: 3C | D83: 녹비 시용비율 관련 면적
C85: CRF code | D85: 대분류 | E85: 중분류 | F85: 단위 | G85: 2008 | H85: 2009 | I85: 2010 | J85: 2011 | K85: 2012 | L85: 2013 | M85: 2014 | N85: 2015 | O85: 2016 | P85: 2017 | Q85: 2018 | R85: 2019 | S85: 2020 | T85: 2021 | U85: 2022 | V85: 출처 | W85: 비고
D86: 녹비 시용비율 관련면적 | E86: 녹비 작물 재배면적 | F86: ha | V86: 활용 통계 및 자료 출처 기입 | W86: 단위변경 등 특이사항 기재
E87: 논벼 수확면적 | F87: ha | V87: 활용 통계 및 자료 출처 기입 | W87: 단위변경 등 특이사항 기재
C90: 3C | D90: 재배기간 중 물관리방법별 면적 비율
C92: CRF code | D92: 대분류 | E92: 중분류 | F92: 단위 | G92: 2008 | H92: 2009 | I92: 2010 | J92: 2011 | K92: 2012 | L92: 2013 | M92: 2014 | N92: 2015 | O92: 2016 | P92: 2017 | Q92: 2018 | R92: 2019 | S92: 2020 | T92: 2021 | U92: 2022 | V92: 출처 | W92: 비고
D93: 논벼 | E93: 상시담수(유기물 시용) | F93: % | V93: 활용 통계 및 자료 출처 기입 | W93: 단위변경 등 특이사항 기재
E94: 상시담수(유기물 무시용) | F94: % | V94: 활용 통계 및 자료 출처 기입 | W94: 단위변경 등 특이사항 기재
E95: 중간낙수 1주(유기물 시용) | F95: % | V95: 활용 통계 및 자료 출처 기입 | W95: 단위변경 등 특이사항 기재
E96: 중간낙수 1주(유기물 무시용) | F96: % | V96: 활용 통계 및 자료 출처 기입 | W96: 단위변경 등 특이사항 기재
E97: 중간낙수 2주(유기물 시용) | F97: % | V97: 활용 통계 및 자료 출처 기입 | W97: 단위변경 등 특이사항 기재
E98: 중간낙수 2주(유기물 무시용) | F98: % | V98: 활용 통계 및 자료 출처 기입 | W98: 단위변경 등 특이사항 기재
E99: 중간낙수 3주(유기물 시용) | F99: % | V99: 활용 통계 및 자료 출처 기입 | W99: 단위변경 등 특이사항 기재
E100: 중간낙수 3주(유기물 무시용) | F100: % | V100: 활용 통계 및 자료 출처 기입 | W100: 단위변경 등 특이사항 기재
E101: 상습가뭄(유기물 시용) | F101: % | V101: 활용 통계 및 자료 출처 기입 | W101: 단위변경 등 특이사항 기재
E102: 상습가뭄(유기물 무시용) | F102: % | V102: 활용 통계 및 자료 출처 기입 | W102: 단위변경 등 특이사항 기재
E103: 상습범람(유기물 시용) | F103: % | V103: 활용 통계 및 자료 출처 기입 | W103: 단위변경 등 특이사항 기재
E104: 상습범람(유기물 무시용) | F104: % | V104: 활용 통계 및 자료 출처 기입 | W104: 단위변경 등 특이사항 기재
D105: 보리, 밀 | E105: 상시담수(유기물 시용) | F105: % | V105: 활용 통계 및 자료 출처 기입 | W105: 단위변경 등 특이사항 기재
E106: 상시담수(유기물 무시용) | F106: % | V106: 활용 통계 및 자료 출처 기입 | W106: 단위변경 등 특이사항 기재
E107: 중간낙수 1주(유기물 시용) | F107: % | V107: 활용 통계 및 자료 출처 기입 | W107: 단위변경 등 특이사항 기재
E108: 중간낙수 1주(유기물 무시용) | F108: % | V108: 활용 통계 및 자료 출처 기입 | W108: 단위변경 등 특이사항 기재
E109: 중간낙수 2주(유기물 시용) | F109: % | V109: 활용 통계 및 자료 출처 기입 | W109: 단위변경 등 특이사항 기재
E110: 중간낙수 2주(유기물 무시용) | F110: % | V110: 활용 통계 및 자료 출처 기입 | W110: 단위변경 등 특이사항 기재
E111: 중간낙수 3주(유기물 시용) | F111: % | V111: 활용 통계 및 자료 출처 기입 | W111: 단위변경 등 특이사항 기재
E112: 중간낙수 3주(유기물 무시용) | F112: % | V112: 활용 통계 및 자료 출처 기입 | W112: 단위변경 등 특이사항 기재
E113: 상습가뭄(유기물 시용) | F113: % | V113: 활용 통계 및 자료 출처 기입 | W113: 단위변경 등 특이사항 기재
...

Sheet LULUCF_필수
B2: LULUCF_필수입력
B6: ▶ 산림지(4A) - 임목축적량(산림기본통계 활용)
B7: =SUM(G11:V16) -> 0
C8: 4A | D8: 산림지 면적
C10: CRF code | D10: 대분류 | E10: 중분류 | F10: 단위 | G10: 2007 | H10: 2008 | I10: 2009 | J10: 2010 | K10: 2011 | L10: 2012 | M10: 2013 | N10: 2014 | O10: 2015 | P10: 2016 | Q10: 2017 | R10: 2018 | S10: 2019 | T10: 2020 | U10: 2021 | V10: 2022 | W10: 출처 | X10: 비고
D11: 산림면적 | E11: 활엽수림 | F11: m2 | W11: 활용 통계 및 자료 출처 기입 | X11: 단위변경 등 특이사항 기재
E12: 침엽수림 | F12: m2 | W12: 활용 통계 및 자료 출처 기입 | X12: 단위변경 등 특이사항 기재
E13: 혼효림 | F13: m2 | W13: 활용 통계 및 자료 출처 기입 | X13: 단위변경 등 특이사항 기재
D14: 임목축적량 | E14: 활엽수림 | F14: m3 | W14: 활용 통계 및 자료 출처 기입 | X14: 단위변경 등 특이사항 기재
E15: 침엽수림 | F15: m3 | W15: 활용 통계 및 자료 출처 기입 | X15: 단위변경 등 특이사항 기재
E16: 혼효림 | F16: m3 | W16: 활용 통계 및 자료 출처 기입 | X16: 단위변경 등 특이사항 기재
B20: ▶ 농경지(4B) - 논/밭 경지면적(농업면적조사 활용)
B21: =SUM(G25:AM26) -> 0
C22: 4B | D22: 농경지 면적
C24: CRF code | D24: 대분류 | E24: 중분류 | F24: 단위 | G24: 1990 | H24: 1991 | I24: 1992 | J24: 1993 | K24: 1994 | L24: 1995 | M24: 1996 | N24: 1997 | O24: 1998 | P24: 1999 | Q24: 2000 | R24: 2001 | S24: 2002 | T24: 2003 | U24: 2004 | V24: 2005 | W24: 2006 | X24: 2007 | Y24: 2008 | Z24: 2009 | AA24: 2010 | AB24: 2011 | AC24: 2012 | AD24: 2013 | AE24: 2014 | AF24: 2015 | AG24: 2016 | AH24: 2017 | AI24: 2018 | AJ24: 2019 | AK24: 2020 | AL24: 2021 | AM24: 2022 | AN24: 출처 | AO24: 비고
D25: 농경지 면적 | E25: 논 | F25: ha | AN25: 활용 통계 및 자료 출처 기입 | AO25: 단위변경 등 특이사항 기재
E26: 밭 | F26: ha | AN26: 활용 통계 및 자료 출처 기입 | AO26: 단위변경 등 특이사항 기재
B30: ▶ 초지(4C) - 목장용지 면적(지적통계 활용)
B31: =SUM(G35:AM35) -> 0
C32: 4C | D32: 초지 면적
C34: CRF code | D34: 대분류 | E34: 중분류 | F34: 단위 | G34: 1990 | H34: 1991 | I34: 1992 | J34: 1993 | K34: 1994 | L34: 1995 | M34: 1996 | N34: 1997 | O34: 1998 | P34: 1999 | Q34: 2000 | R34: 2001 | S34: 2002 | T34: 2003 | U34: 2004 | V34: 2005 | W34: 2006 | X34: 2007 | Y34: 2008 | Z34: 2009 | AA34: 2010 | AB34: 2011 | AC34: 2012 | AD34: 2013 | AE34: 2014 | AF34: 2015 | AG34: 2016 | AH34: 2017 | AI34: 2018 | AJ34: 2019 | AK34: 2020 | AL34: 2021 | AM34: 2022 | AN34: 출처 | AO34: 비고
D35: 초지 면적 | E35: 목장용지 | F35: ha | AN35: 활용 통계 및 자료 출처 기입 | AO35: 단위변경 등 특이사항 기재
B39: ▶ 습지(4D) - 구거/유지/양어장/하천 면적(지적통계 활용)
B40: =SUM(G44:AC49) -> 0
C41: 4D | D41: 습지 면적
C43: CRF code | D43: 대분류 | E43: 중분류 | F43: 단위 | G43: 2000 | H43: 2001 | I43: 2002 | J43: 2003 | K43: 2004 | L43: 2005 | M43: 2006 | N43: 2007 | O43: 2008 | P43: 2009 | Q43: 2010 | R43: 2011 | S43: 2012 | T43: 2013 | U43: 2014 | V43: 2015 | W43: 2016 | X43: 2017 | Y43: 2018 | Z43: 2019 | AA43: 2020 | AB43: 2021 | AC43: 2022 | AD43: 출처 | AE43: 비고
D44: 인공침수지 | E44: 구거 | F44: ha | AD44: 활용 통계 및 자료 출처 기입 | AE44: 단위변경 등 특이사항 기재
E45: 유지 | F45: ha | AD45: 활용 통계 및 자료 출처 기입 | AE45: 단위변경 등 특이사항 기재
E46: 양어장 | F46: ha | AD46: 활용 통계 및 자료 출처 기입 | AE46: 단위변경 등 특이사항 기재
D47: 자연침수지 | E47: 하천 | F47: ha | AD47: 활용 통계 및 자료 출처 기입 | AE47: 단위변경 등 특이사항 기재
D48: 식생 연안습지 | E48: 염습지 | F48: ha | AD48: 활용 통계 및 자료 출처 기입 | AE48: 단위변경 등 특이사항 기재
E49: 해초대 | F49: ha | AD49: 활용 통계 및 자료 출처 기입 | AE49: 단위변경 등 특이사항 기재
C53: 4D | D53: 결빙일수
C55: CRF code | D55: 대분류 | E55: 중분류 | F55: 단위 | G55: 2010 | H55: 2011 | I55: 2012 | J55: 2013 | K55: 2014 | L55: 2015 | M55: 2016 | N55: 2017 | O55: 2018 | P55: 2019 | Q55: 2020 | R55: 2020 | S55: 2021 | T55: 출처 | U55: 비고
D56: 연평균 비결빙일수 | E56: 결빙일수 | F56: days | T56: 활용 통계 및 자료 출처 기입 | U56: 단위변경 등 특이사항 기재

Sheet LULUCF_기타
B2: LULUCF_필수입력_기타
B7: ▶ 수확된 목재제품(4G)-해당자료 자체조사 자료 입력(미입력시 해당지역 협회사 수 기준 분배)
B8: =SUM(G13:T15) -> 0
C10: 4G | D10: 국내 생산량
C12: CRF code | D12: 대분류 | E12: 중분류 | F12: 단위 | G12: 2009 | H12: 2010 | I12: 2011 | J12: 2012 | K12: 2013 | L12: 2014 | M12: 2015 | N12: 2016 | O12: 2017 | P12: 2018 | Q12: 2019 | R12: 2020 | S12: 2021 | T12: 2022 | U12: 출처 | V12: 비고
D13: 제재목 | E13: 제재목 | F13: m3 | U13: 활용 통계 및 자료 출처 기입 | V13: 단위변경 등 특이사항 기재
D14: 목질판상재 | E14: 섬유판 | F14: m3 | U14: 활용 통계 및 자료 출처 기입 | V14: 단위변경 등 특이사항 기재
D15: 종이 및 판지 | E15: 종이 | F15: ton | U15: 활용 통계 및 자료 출처 기입 | V15: 단위변경 등 특이사항 기재

Sheet 폐기물_필수
B2: 폐기물_필수입력
B6: ▶ 폐기물매립(5A) - 전국 폐기물 발생 및 처리현황 활용
B7: =SUM(H11:J47,H53:J82,H88:J105,H111:J134) -> 0
C8: 5A 생활폐기물
C10: CRF code | D10: 대분류 | E10: 중분류 | F10: 소분류 | G10: 단위 | H10: 2020 | I10: 2021 | J10: 2022 | K10: 출처 | L10: 비고
D11: 종량제방식 등 혼합배출 | E11: 가연성 | F11: 폐지류 | G11: ton/year | K11: 활용 통계 및 자료 출처 기입 | L11: 단위변경 등 특이사항 기재
F12: 폐합성수지류 | G12: ton/year | K12: 활용 통계 및 자료 출처 기입 | L12: 단위변경 등 특이사항 기재
F13: 폐고무류 | G13: ton/year | K13: 활용 통계 및 자료 출처 기입 | L13: 단위변경 등 특이사항 기재
F14: 폐섬유류 | G14: ton/year | K14: 활용 통계 및 자료 출처 기입 | L14: 단위변경 등 특이사항 기재
F15: 음식물류 폐기물 | G15: ton/year | K15: 활용 통계 및 자료 출처 기입 | L15: 단위변경 등 특이사항 기재
F16: 폐목재류 | G16: ton/year | K16: 활용 통계 및 자료 출처 기입 | L16: 단위변경 등 특이사항 기재
F17: 기타_가연성_생활 | G17: ton/year | K17: 활용 통계 및 자료 출처 기입 | L17: 단위변경 등 특이사항 기재
E18: 불연성 | F18: 폐금속류 | G18: ton/year | K18: 활용 통계 및 자료 출처 기입 | L18: 단위변경 등 특이사항 기재
F19: 폐유리류 | G19: ton/year | K19: 활용 통계 및 자료 출처 기입 | L19: 단위변경 등 특이사항 기재
F20: 폐토사류 | G20: ton/year | K20: 활용 통계 및 자료 출처 기입 | L20: 단위변경 등 특이사항 기재
F21: 폐타일 및 도자기류 | G21: ton/year | K21: 활용 통계 및 자료 출처 기입 | L21: 단위변경 등 특이사항 기재
F22: 연탄재 | G22: ton/year | K22: 활용 통계 및 자료 출처 기입 | L22: 단위변경 등 특이사항 기재
F23: 기타_불연성_생활 | G23: ton/year | K23: 활용 통계 및 자료 출처 기입 | L23: 단위변경 등 특이사항 기재
E24: 건설폐재류 | F24: 건설폐재류 | G24: ton/year | K24: 활용 통계 및 자료 출처 기입 | L24: 단위변경 등 특이사항 기재
E25: 기타(배출불명) | F25: 기타(배출불명)_생활 | G25: ton/year | K25: 활용 통계 및 자료 출처 기입 | L25: 단위변경 등 특이사항 기재
D26: 재활용 가능자원 분리배출 | E26: 폐지류 | F26: 종이팩 | G26: ton/year | K26: 활용 통계 및 자료 출처 기입 | L26: 단위변경 등 특이사항 기재
F27: 기타_폐지류_생활 | G27: ton/year | K27: 활용 통계 및 자료 출처 기입 | L27: 단위변경 등 특이사항 기재
E28: 고철류 | F28: 고철류 | G28: ton/year | K28: 활용 통계 및 자료 출처 기입 | L28: 단위변경 등 특이사항 기재
E29: 금속캔 | F29: 금속캔 | G29: ton/year | K29: 활용 통계 및 자료 출처 기입 | L29: 단위변경 등 특이사항 기재
E30: 폐합성수지류 | F30: 비닐류 | G30: ton/year | K30: 활용 통계 및 자료 출처 기입 | L30: 단위변경 등 특이사항 기재
F31: 발포수지류 | G31: ton/year | K31: 활용 통계 및 자료 출처 기입 | L31: 단위변경 등 특이사항 기재
F32: PET병 | G32: ton/year | K32: 활용 통계 및 자료 출처 기입 | L32: 단위변경 등 특이사항 기재
F33: 기타_폐합성수지류_생활 | G33: ton/year | K33: 활용 통계 및 자료 출처 기입 | L33: 단위변경 등 특이사항 기재
E34: 폐고무류 | F34: 폐고무류 | G34: ton/year | K34: 활용 통계 및 자료 출처 기입 | L34: 단위변경 등 특이사항 기재
E35: 폐유리병류 | F35: 폐유리병류 | G35: ton/year | K35: 활용 통계 및 자료 출처 기입 | L35: 단위변경 등 특이사항 기재
E36: 폐의류 | F36: 폐의류 | G36: ton/year | K36: 활용 통계 및 자료 출처 기입 | L36: 단위변경 등 특이사항 기재
E37: 폐섬유류 | F37: 폐섬유류 | G37: ton/year | K37: 활용 통계 및 자료 출처 기입 | L37: 단위변경 등 특이사항 기재
E38: 조명폐기물 | F38: 조명폐기물 | G38: ton/year | K38: 활용 통계 및 자료 출처 기입 | L38: 단위변경 등 특이사항 기재
E39: 폐전지류 | F39: 폐전지류 | G39: ton/year | K39: 활용 통계 및 자료 출처 기입 | L39: 단위변경 등 특이사항 기재
E40: 영농폐기물 | F40: 농약용기류 | G40: ton/year | K40: 활용 통계 및 자료 출처 기입 | L40: 단위변경 등 특이사항 기재
F41: 폐비닐 | G41: ton/year | K41: 활용 통계 및 자료 출처 기입 | L41: 단위변경 등 특이사항 기재
E42: 폐식용유 | F42: 폐식용유 | G42: ton/year | K42: 활용 통계 및 자료 출처 기입 | L42: 단위변경 등 특이사항 기재
E43: 폐전기전자제품 | F43: 폐전기전자제품 | G43: ton/year | K43: 활용 통계 및 자료 출처 기입 | L43: 단위변경 등 특이사항 기재
E44: 폐가구류 | F44: 폐가구류 | G44: ton/year | K44: 활용 통계 및 자료 출처 기입 | L44: 단위변경 등 특이사항 기재
E45: 기타_재활용_생활 | F45: 기타_재활용_생활 | G45: ton/year | K45: 활용 통계 및 자료 출처 기입 | L45: 단위변경 등 특이사항 기재
E46: 재활용 잔재물 | F46: 재활용 잔재물 | G46: ton/year | K46: 활용 통계 및 자료 출처 기입 | L46: 단위변경 등 특이사항 기재
D47: 음식물류 폐기물 분리배출 | E47: 음식물류 폐기물 분리배출 | F47: 음식물류 폐기물 분리배출 | G47: ton/year | K47: 활용 통계 및 자료 출처 기입 | L47: 단위변경 등 특이사항 기재
C50: 5A 사업장배출시설계폐기물
C52: CRF code | D52: 대분류 | E52: 중분류 | F52: 소분류 | G52: 단위 | H52: 2020 | I52: 2021 | J52: 2022 | K52: 출처 | L52: 비고
D53: 가연성 | E53: 폐지류 | F53: 폐지류 | G53: ton/year | K53: 활용 통계 및 자료 출처 기입 | L53: 단위변경 등 특이사항 기재
E54: 폐목재류 | F54: 폐목재류 | G54: ton/year | K54: 활용 통계 및 자료 출처 기입 | L54: 단위변경 등 특이사항 기재
E55: 폐섬유류 | F55: 폐섬유류 | G55: ton/year | K55: 활용 통계 및 자료 출처 기입 | L55: 단위변경 등 특이사항 기재
E56: 폐합성수지류 | F56: 폐합성수지류 | G56: ton/year | K56: 활용 통계 및 자료 출처 기입 | L56: 단위변경 등 특이사항 기재
E57: 폐합성고무류 | F57: 폐합성고무류 | G57: ton/year | K57: 활용 통계 및 자료 출처 기입 | L57: 단위변경 등 특이사항 기재
E58: 폐전기전자제품류 | F58: 폐전기전자제품류 | G58: ton/year | K58: 활용 통계 및 자료 출처 기입 | L58: 단위변경 등 특이사항 기재
E59: 유기성오니류 | F59: 폐수처리오니 | G59: ton/year | K59: 활용 통계 및 자료 출처 기입 | L59: 단위변경 등 특이사항 기재
F60: 공정오니 | G60: ton/year | K60: 활용 통계 및 자료 출처 기입 | L60: 단위변경 등 특이사항 기재
F61: 정수처리오니 | G61: ton/year | K61: 활용 통계 및 자료 출처 기입 | L61: 단위변경 등 특이사항 기재
F62: 하수처리오니 | G62: ton/year | K62: 활용 통계 및 자료 출처 기입 | L62: 단위변경 등 특이사항 기재
E63: 동식물성잔재물 | F63: 동식물성잔재물 | G63: ton/year | K63: 활용 통계 및 자료 출처 기입 | L63: 단위변경 등 특이사항 기재
E64: 폐식용류 | F64: 폐식용류 | G64: ton/year | K64: 활용 통계 및 자료 출처 기입 | L64: 단위변경 등 특이사항 기재
E65: 기타_가연성_사업장 | F65: 기타_가연성_사업장 | G65: ton/year | K65: 활용 통계 및 자료 출처 기입 | L65: 단위변경 등 특이사항 기재
D66: 불연성 | E66: 광재류 | F66: 광재류 | G66: ton/year | K66: 활용 통계 및 자료 출처 기입 | L66: 단위변경 등 특이사항 기재
E67: 연소잔재물 | F67: 연소잔재물 | G67: ton/year | K67: 활용 통계 및 자료 출처 기입 | L67: 단위변경 등 특이사항 기재
E68: 소각재 | F68: 소각재 | G68: ton/year | K68: 활용 통계 및 자료 출처 기입 | L68: 단위변경 등 특이사항 기재
E69: 분진류 | F69: 분진류 | G69: ton/year | K69: 활용 통계 및 자료 출처 기입 | L69: 단위변경 등 특이사항 기재
E70: 폐주물사및폐사 | F70: 폐주물사및폐사 | G70: ton/year | K70: 활용 통계 및 자료 출처 기입 | L70: 단위변경 등 특이사항 기재
E71: 폐금속류 | F71: 고철 | G71: ton/year | K71: 활용 통계 및 자료 출처 기입 | L71: 단위변경 등 특이사항 기재
F72: 비철 | G72: ton/year | K72: 활용 통계 및 자료 출처 기입 | L72: 단위변경 등 특이사항 기재
E73: 폐석재폐콘크리트류 | F73: 폐석재폐콘크리트류 | G73: ton/year | K73: 활용 통계 및 자료 출처 기입 | L73: 단위변경 등 특이사항 기재
E74: 폐석고및폐석회 | F74: 폐석고및폐석회 | G74: ton/year | K74: 활용 통계 및 자료 출처 기입 | L74: 단위변경 등 특이사항 기재
E75: 폐촉매 | F75: 폐촉매 | G75: ton/year | K75: 활용 통계 및 자료 출처 기입 | L75: 단위변경 등 특이사항 기재
E76: 폐흡착제및폐흡수제 | F76: 폐흡착제및폐흡수제 | G76: ton/year | K76: 활용 통계 및 자료 출처 기입 | L76: 단위변경 등 특이사항 기재
E77: 유리도자기편류 | F77: 유리도자기편류 | G77: ton/year | K77: 활용 통계 및 자료 출처 기입 | L77: 단위변경 등 특이사항 기재
E78: 무기성오니류 | F78: 폐수처리오니 | G78: ton/year | K78: 활용 통계 및 자료 출처 기입 | L78: 단위변경 등 특이사항 기재
F79: 공정오니 | G79: ton/year | K79: 활용 통계 및 자료 출처 기입 | L79: 단위변경 등 특이사항 기재
F80: 정수처리오니 | G80: ton/year | K80: 활용 통계 및 자료 출처 기입 | L80: 단위변경 등 특이사항 기재
F81: 하수처리오니 | G81: ton/year | K81: 활용 통계 및 자료 출처 기입 | L81: 단위변경 등 특이사항 기재
E82: 기타_불연성_사업장 | F82: 기타_불연성_사업장 | G82: ton/year | K82: 활용 통계 및 자료 출처 기입 | L82: 단위변경 등 특이사항 기재
C85: 5A 건설폐기물
C87: CRF code | D87: 대분류 | E87: 중분류 | F87: 소분류 | G87: 단위 | H87: 2020 | I87: 2021 | J87: 2022 | K87: 출처 | L87: 비고
D88: 가연성 | E88: 폐목재 | F88: 폐목재 | G88: ton/year | K88: 활용 통계 및 자료 출처 기입 | L88: 단위변경 등 특이사항 기재
E89: 폐합성수지류 | F89: 폐합성수지류 | G89: ton/year | K89: 활용 통계 및 자료 출처 기입 | L89: 단위변경 등 특이사항 기재
E90: 폐섬유 | F90: 폐섬유 | G90: ton/year | K90: 활용 통계 및 자료 출처 기입 | L90: 단위변경 등 특이사항 기재
E91: 폐벽지 | F91: 폐벽지 | G91: ton/year | K91: 활용 통계 및 자료 출처 기입 | L91: 단위변경 등 특이사항 기재
D92: 불연성 | E92: 건설폐재류 | F92: 폐콘크리트 | G92: ton/year | K92: 활용 통계 및 자료 출처 기입 | L92: 단위변경 등 특이사항 기재
F93: 폐아스팔트콘크리트 | G93: ton/year | K93: 활용 통계 및 자료 출처 기입 | L93: 단위변경 등 특이사항 기재
F94: 폐벽돌 | G94: ton/year | K94: 활용 통계 및 자료 출처 기입 | L94: 단위변경 등 특이사항 기재
F95: 폐블럭 | G95: ton/year | K95: 활용 통계 및 자료 출처 기입 | L95: 단위변경 등 특이사항 기재
F96: 폐기와 | G96: ton/year | K96: 활용 통계 및 자료 출처 기입 | L96: 단위변경 등 특이사항 기재
F97: 건설폐토석 | G97: ton/year | K97: 활용 통계 및 자료 출처 기입 | L97: 단위변경 등 특이사항 기재
E98: 건설오니 | F98: 건설오니 | G98: ton/year | K98: 활용 통계 및 자료 출처 기입 | L98: 단위변경 등 특이사항 기재
E99: 폐금속류 | F99: 폐금속류 | G99: ton/year | K99: 활용 통계 및 자료 출처 기입 | L99: 단위변경 등 특이사항 기재
E100: 폐유리 | F100: 폐유리 | G100: ton/year | K100: 활용 통계 및 자료 출처 기입 | L100: 단위변경 등 특이사항 기재
E101: 폐타일 및 폐도자기 | F101: 폐타일 및 폐도자기 | G101: ton/year | K101: 활용 통계 및 자료 출처 기입 | L101: 단위변경 등 특이사항 기재
D102: 가연성,불연성 혼합 | E102: 폐보드류 | F102: 폐보드류 | G102: ton/year | K102: 활용 통계 및 자료 출처 기입 | L102: 단위변경 등 특이사항 기재
E103: 폐판넬 | F103: 폐판넬 | G103: ton/year | K103: 활용 통계 및 자료 출처 기입 | L103: 단위변경 등 특이사항 기재
E104: 혼합건설폐기물 | F104: 혼합건설폐기물 | G104: ton/year | K104: 활용 통계 및 자료 출처 기입 | L104: 단위변경 등 특이사항 기재
D105: 기타_건설 | E105: 기타_건설 | F105: 기타_건설 | G105: ton/year | K105: 활용 통계 및 자료 출처 기입 | L105: 단위변경 등 특이사항 기재
C108: 5A 지정폐기물
C110: CRF code | D110: 대분류 | E110: 중분류 | F110: 소분류 | G110: 단위 | H110: 2020 | I110: 2021 | J110: 2022 | K110: 출처 | L110: 비고
D111: 지정폐기물 | E111: 공정오니 | F111: 공정오니 | G111: ton/year | K111: 활용 통계 및 자료 출처 기입 | L111: 단위변경 등 특이사항 기재
E112: 광재 | F112: 광재 | G112: ton/year | K112: 활용 통계 및 자료 출처 기입 | L112: 단위변경 등 특이사항 기재
E113: 기타폐유기용제 | F113: 기타폐유기용제 | G113: ton/year | K113: 활용 통계 및 자료 출처 기입 | L113: 단위변경 등 특이사항 기재
E114: 분진 | F114: 분진 | G114: ton/year | K114: 활용 통계 및 자료 출처 기입 | L114: 단위변경 등 특이사항 기재
...

Sheet 폐기물_기타
B2: 폐기물_필수입력_기타
B7: ▶ 고형폐기물의 생물학적처리(5B)
B8: =SUM(H12:T14) -> 0
C9: 5B | D9: 생물학적처리
C11: CRF code | D11: 대분류 | F11: 중분류 | G11: 단위 | H11: 2010 | I11: 2011 | J11: 2012 | K11: 2013 | L11: 2014 | M11: 2015 | N11: 2016 | O11: 2017 | P11: 2018 | Q11: 2019 | R11: 2020 | S11: 2021 | T11: 2022 | U11: 출처 | V11: 비고
D12: 생물학적처리 | F12: 퇴비화 | G12: ton/yr | U12: 활용 통계 및 자료 출처 기입 | V12: 단위변경 등 특이사항 기재
F13: 혐기성소화 | G13: ton/yr | U13: 활용 통계 및 자료 출처 기입 | V13: 단위변경 등 특이사항 기재
F14: 메탄(CH4) 회수량 | G14: ton/yr | U14: 활용 통계 및 자료 출처 기입 | V14: 단위변경 등 특이사항 기재
B18: ▶하폐수처리(5D) - 하수도통계 활용
B19: =SUM(H23:T26) -> 0
C20: 5D1 하수처리
C22: CRF code | D22: 대분류 | E22: 중분류 | F22: 소분류 | G22: 단위 | H22: 2010 | I22: 2011 | J22: 2012 | K22: 2013 | L22: 2014 | M22: 2015 | N22: 2016 | O22: 2017 | P22: 2018 | Q22: 2019 | R22: 2020 | S22: 2021 | T22: 2022 | U22: 출처 | V22: 비고
D23: 하수도통계 | E23: 하수처리량 | F23: 소화조/소화가스 발생량 | G23: m3/day | U23: 활용 통계 및 자료 출처 기입 | V23: 단위변경 등 특이사항 기재
F24: 소화조/소화가스 회수량 | G24: m3/day | U24: 활용 통계 및 자료 출처 기입 | V24: 단위변경 등 특이사항 기재
D25: 분뇨처리 | E25: 분뇨 질소부하 | F25: 일인당 단백질 섭취량 | G25: g/인∙day | U25: 활용 통계 및 자료 출처 기입 | V25: 단위변경 등 특이사항 기재
D26: 추계인구 | E26: 총인구(추계) | F26: 총인구(추계) | G26: 인 | U26: 활용 통계 및 자료 출처 기입 | V26: 단위변경 등 특이사항 기재
C30: 5D2 | D30: 폐수처리
C32: CRF code | D32: 대분류 | E32: 중분류 | F32: 소분류 | G32: 단위 | H32: 2010 | I32: 2011 | J32: 2012 | K32: 2013 | L32: 2014 | M32: 2015 | N32: 2016 | O32: 2017 | P32: 2018 | Q32: 2019 | R32: 2020 | S32: 2021 | T32: 2022 | U32: 출처 | V32: 비고
D33: 산업폐수 발생 및 처리현황 | E33: 업종별 발생 BOD 부하량 | F33: 화학 | G33: kgBOD/day | U33: 활용 통계 및 자료 출처 기입 | V33: 단위변경 등 특이사항 기재
F34: 전기전자 | G34: kgBOD/day | U34: 활용 통계 및 자료 출처 기입 | V34: 단위변경 등 특이사항 기재
F35: 음식료품 | G35: kgBOD/day | U35: 활용 통계 및 자료 출처 기입 | V35: 단위변경 등 특이사항 기재
F36: 제지 | G36: kgBOD/day | U36: 활용 통계 및 자료 출처 기입 | V36: 단위변경 등 특이사항 기재
F37: 피혁신발 | G37: kgBOD/day | U37: 활용 통계 및 자료 출처 기입 | V37: 단위변경 등 특이사항 기재
F38: 섬유 | G38: kgBOD/day | U38: 활용 통계 및 자료 출처 기입 | V38: 단위변경 등 특이사항 기재
F39: 비금속 | G39: kgBOD/day | U39: 활용 통계 및 자료 출처 기입 | V39: 단위변경 등 특이사항 기재
F40: 발전수도 | G40: kgBOD/day | U40: 활용 통계 및 자료 출처 기입 | V40: 단위변경 등 특이사항 기재
F41: 폐수처리업 | G41: kgBOD/day | U41: 활용 통계 및 자료 출처 기입 | V41: 단위변경 등 특이사항 기재
F42: 금속합계 | G42: kgBOD/day | U42: 활용 통계 및 자료 출처 기입 | V42: 단위변경 등 특이사항 기재
F43: 기타_발생 | G43: kgBOD/day | U43: 활용 통계 및 자료 출처 기입 | V43: 단위변경 등 특이사항 기재
E44: 업종별 방류 BOD 부하량 | F44: 화학 | G44: kgBOD/day | U44: 활용 통계 및 자료 출처 기입 | V44: 단위변경 등 특이사항 기재
F45: 전기전자 | G45: kgBOD/day | U45: 활용 통계 및 자료 출처 기입 | V45: 단위변경 등 특이사항 기재
F46: 음식료품 | G46: kgBOD/day | U46: 활용 통계 및 자료 출처 기입 | V46: 단위변경 등 특이사항 기재
F47: 제지 | G47: kgBOD/day | U47: 활용 통계 및 자료 출처 기입 | V47: 단위변경 등 특이사항 기재
F48: 피혁신발 | G48: kgBOD/day | U48: 활용 통계 및 자료 출처 기입 | V48: 단위변경 등 특이사항 기재
F49: 섬유 | G49: kgBOD/day | U49: 활용 통계 및 자료 출처 기입 | V49: 단위변경 등 특이사항 기재
F50: 비금속 | G50: kgBOD/day | U50: 활용 통계 및 자료 출처 기입 | V50: 단위변경 등 특이사항 기재
F51: 발전수도 | G51: kgBOD/day | U51: 활용 통계 및 자료 출처 기입 | V51: 단위변경 등 특이사항 기재
F52: 폐수처리업 | G52: kgBOD/day | U52: 활용 통계 및 자료 출처 기입 | V52: 단위변경 등 특이사항 기재
F53: 금속합계 | G53: kgBOD/day | U53: 활용 통계 및 자료 출처 기입 | V53: 단위변경 등 특이사항 기재
F54: 기타_방류 | G54: kgBOD/day | U54: 활용 통계 및 자료 출처 기입 | V54: 단위변경 등 특이사항 기재
D55: 폐수부문 회수량 | E55: 폐수부문 회수량 | F55: 폐수부문 회수량 | G55: kgBOD/day | U55: 활용 통계 및 자료 출처 기입 | V55: 단위변경 등 특이사항 기재

Sheet 에너지
B2: 선택입력
B6: ▶에너지 산업(1A1)-자체 조사자료 선택입력(미입력시 센터 자료 활용)
B7: =SUM(G11:S61) -> 0
C8: 1A1ai | D8: 전기 생산
C10: CRF code | D10: 대분류 | E10: 중분류 | F10: 단위 | G10: 2010 | H10: 2011 | I10: 2012 | J10: 2013 | K10: 2014 | L10: 2015 | M10: 2016 | N10: 2017 | O10: 2018 | P10: 2019 | Q10: 2020 | R10: 2021 | S10: 2022 | T10: 출처 | U10: 비고
C11: 1A1a | D11: 석탄 | E11: 국내무연탄 | F11: 1000 ton | T11: 활용 통계 및 자료 출처 기입 | U11: 단위변경 등 특이사항 기재
C12: 1A1a | E12: 연료용 수입무연탄 | F12: 1000 ton | T12: 활용 통계 및 자료 출처 기입 | U12: 단위변경 등 특이사항 기재
C13: 1A1a | E13: 원료용 수입무연탄 | F13: 1000 ton | T13: 활용 통계 및 자료 출처 기입 | U13: 단위변경 등 특이사항 기재
C14: 1A1a | E14: 원료용유연탄 | F14: 1000 ton | T14: 활용 통계 및 자료 출처 기입 | U14: 단위변경 등 특이사항 기재
C15: 1A1a | E15: 연료용유연탄 | F15: 1000 ton | T15: 활용 통계 및 자료 출처 기입 | U15: 단위변경 등 특이사항 기재
C16: 1A1a | E16: 아역청탄 | F16: 1000 ton | T16: 활용 통계 및 자료 출처 기입 | U16: 단위변경 등 특이사항 기재
C17: 1A1a | E17: 갈탄 | F17: 1000 ton | T17: 활용 통계 및 자료 출처 기입 | U17: 단위변경 등 특이사항 기재
C18: 1A1a | E18: 연탄 | F18: 1000 ton | T18: 활용 통계 및 자료 출처 기입 | U18: 단위변경 등 특이사항 기재
C19: 1A1a | E19: 코크스 | F19: 1000 ton | T19: 활용 통계 및 자료 출처 기입 | U19: 단위변경 등 특이사항 기재
C20: 1A1a | E20: 콜타르 | F20: 1000 ton | T20: 활용 통계 및 자료 출처 기입 | U20: 단위변경 등 특이사항 기재
C21: 1A1a | E21: 코크스가스 | F21: 1000 toe | T21: 활용 통계 및 자료 출처 기입 | U21: 단위변경 등 특이사항 기재
C22: 1A1a | E22: 고로가스 | F22: 1000 toe | T22: 활용 통계 및 자료 출처 기입 | U22: 단위변경 등 특이사항 기재
C23: 1A1a | E23: 기타석탄가스 | F23: 1000 toe | T23: 활용 통계 및 자료 출처 기입 | U23: 단위변경 등 특이사항 기재
C24: 1A1a | D24: 가스 | E24: 천연가스 | F24: 1000 ton | T24: 활용 통계 및 자료 출처 기입 | U24: 단위변경 등 특이사항 기재
C25: 1A1a | E25: 도시가스 | F25: M m3 | T25: 활용 통계 및 자료 출처 기입 | U25: 단위변경 등 특이사항 기재
C26: 1A1a | D26: 석유 | E26: 원유 | F26: 1000 bbl | T26: 활용 통계 및 자료 출처 기입 | U26: 단위변경 등 특이사항 기재
C27: 1A1a | E27: 정제원료 | F27: 1000 bbl | T27: 활용 통계 및 자료 출처 기입 | U27: 단위변경 등 특이사항 기재
C28: 1A1a | E28: 첨가물 | F28: 1000 bbl | T28: 활용 통계 및 자료 출처 기입 | U28: 단위변경 등 특이사항 기재
C29: 1A1a | E29: 기타탄화수소 | F29: 1000 bbl | T29: 활용 통계 및 자료 출처 기입 | U29: 단위변경 등 특이사항 기재
C30: 1A1a | E30: 정제가스 | F30: 1000 bbl | T30: 활용 통계 및 자료 출처 기입 | U30: 단위변경 등 특이사항 기재
C31: 1A1a | E31: 프로판 | F31: 1000 bbl | T31: 활용 통계 및 자료 출처 기입 | U31: 단위변경 등 특이사항 기재
C32: 1A1a | E32: 부탄 | F32: 1000 bbl | T32: 활용 통계 및 자료 출처 기입 | U32: 단위변경 등 특이사항 기재
C33: 1A1a | E33: 휘발유 | F33: 1000 bbl | T33: 활용 통계 및 자료 출처 기입 | U33: 단위변경 등 특이사항 기재
C34: 1A1a | E34: 항공휘발유 | F34: 1000 bbl | T34: 활용 통계 및 자료 출처 기입 | U34: 단위변경 등 특이사항 기재
C35: 1A1a | E35: 휘발유형항공유 | F35: 1000 bbl | T35: 활용 통계 및 자료 출처 기입 | U35: 단위변경 등 특이사항 기재
C36: 1A1a | E36: 등유형항공유 | F36: 1000 bbl | T36: 활용 통계 및 자료 출처 기입 | U36: 단위변경 등 특이사항 기재
C37: 1A1a | E37: 등유 | F37: 1000 bbl | T37: 활용 통계 및 자료 출처 기입 | U37: 단위변경 등 특이사항 기재
C38: 1A1a | E38: 경유 | F38: 1000 bbl | T38: 활용 통계 및 자료 출처 기입 | U38: 단위변경 등 특이사항 기재
... C50: 1A1a | E50: 기타석유제품 | F50: 1000 bbl | T50: 활용 통계 및 자료 출처 기입 | U50: 단위변경 등 특이사항 기재
C51: 1A1a | D51: 기타화석 | E51: 산업폐기물 | F51: 1000 toe | T51: 활용 통계 및 자료 출처 기입 | U51: 단위변경 등 특이사항 기재
C52: 1A1a | E52: 도시폐기물_비재생 | F52: 1000 toe | T52: 활용 통계 및 자료 출처 기입 | U52: 단위변경 등 특이사항 기재
C53: 1A1a | D53: 토탄 | E53: 토탄 | F53: 1000 ton | T53: 활용 통계 및 자료 출처 기입 | U53: 단위변경 등 특이사항 기재
C54: 1A1a | D54: 바이오매스 | E54: 고형바이오매스 | F54: 1000 toe | T54: 활용 통계 및 자료 출처 기입 | U54: 단위변경 등 특이사항 기재
C55: 1A1a | E55: 바이오가스 | F55: 1000 toe | T55: 활용 통계 및 자료 출처 기입 | U55: 단위변경 등 특이사항 기재
C56: 1A1a | E56: 매립지가스 | F56: 1000 toe | T56: 활용 통계 및 자료 출처 기입 | U56: 단위변경 등 특이사항 기재
C57: 1A1a | E57: 바이오휘발유 | F57: 1000 bbl | T57: 활용 통계 및 자료 출처 기입 | U57: 단위변경 등 특이사항 기재
C58: 1A1a | E58: 바이오경유 | F58: 1000 bbl | T58: 활용 통계 및 자료 출처 기입 | U58: 단위변경 등 특이사항 기재
C59: 1A1a | E59: 기타 바이오연료 | F59: 1000 bbl | T59: 활용 통계 및 자료 출처 기입 | U59: 단위변경 등 특이사항 기재
C60: 1A1a | E60: 목탄 | F60: 1000 toe | T60: 활용 통계 및 자료 출처 기입 | U60: 단위변경 등 특이사항 기재
C61: 1A1a | E61: 도시폐기물_재생 | F61: 1000 toe | T61: 활용 통계 및 자료 출처 기입 | U61: 단위변경 등 특이사항 기재
C64: 1A1aii | D64: 열병합 생산
C66: CRF code | D66: 대분류 | E66: 중분류 | F66: 단위 | G66: 2010 | H66: 2011 | I66: 2012 | J66: 2013 | K66: 2014 | L66: 2015 | M66: 2016 | N66: 2017 | O66: 2018 | P66: 2019 | Q66: 2020 | R66: 2021 | S66: 2022 | T66: 출처 | U66: 비고
C67: 1A1a | D67: 석탄 | E67: 국내무연탄 | F67: 1000 ton | T67: 활용 통계 및 자료 출처 기입 | U67: 단위변경 등 특이사항 기재
C68: 1A1a | E68: 연료용 수입무연탄 | F68: 1000 ton | T68: 활용 통계 및 자료 출처 기입 | U68: 단위변경 등 특이사항 기재
C69: 1A1a | E69: 원료용 수입무연탄 | F69: 1000 ton | T69: 활용 통계 및 자료 출처 기입 | U69: 단위변경 등 특이사항 기재
C70: 1A1a | E70: 원료용유연탄 | F70: 1000 ton | T70: 활용 통계 및 자료 출처 기입 | U70: 단위변경 등 특이사항 기재
C71: 1A1a | E71: 연료용유연탄 | F71: 1000 ton | T71: 활용 통계 및 자료 출처 기입 | U71: 단위변경 등 특이사항 기재
C72: 1A1a | E72: 아역청탄 | F72: 1000 ton | T72: 활용 통계 및 자료 출처 기입 | U72: 단위변경 등 특이사항 기재
C73: 1A1a | E73: 갈탄 | F73: 1000 ton | T73: 활용 통계 및 자료 출처 기입 | U73: 단위변경 등 특이사항 기재
C74: 1A1a | E74: 연탄 | F74: 1000 ton | T74: 활용 통계 및 자료 출처 기입 | U74: 단위변경 등 특이사항 기재
C75: 1A1a | E75: 코크스 | F75: 1000 ton | T75: 활용 통계 및 자료 출처 기입 | U75: 단위변경 등 특이사항 기재
C76: 1A1a | E76: 콜타르 | F76: 1000 ton | T76: 활용 통계 및 자료 출처 기입 | U76: 단위변경 등 특이사항 기재
C77: 1A1a | E77: 코크스가스 | F77: 1000 toe | T77: 활용 통계 및 자료 출처 기입 | U77: 단위변경 등 특이사항 기재
C78: 1A1a | E78: 고로가스 | F78: 1000 toe | T78: 활용 통계 및 자료 출처 기입 | U78: 단위변경 등 특이사항 기재
C79: 1A1a | E79: 기타석탄가스 | F79: 1000 toe | T79: 활용 통계 및 자료 출처 기입 | U79: 단위변경 등 특이사항 기재
C80: 1A1a | D80: 가스 | E80: 천연가스 | F80: 1000 ton | T80: 활용 통계 및 자료 출처 기입 | U80: 단위변경 등 특이사항 기재
C81: 1A1a | E81: 도시가스 | F81: M m3 | T81: 활용 통계 및 자료 출처 기입 | U81: 단위변경 등 특이사항 기재
C82: 1A1a | D82: 석유 | E82: 원유 | F82: 1000 bbl | T82: 활용 통계 및 자료 출처 기입 | U82: 단위변경 등 특이사항 기재
C83: 1A1a | E83: 정제원료 | F83: 1000 bbl | T83: 활용 통계 및 자료 출처 기입 | U83: 단위변경 등 특이사항 기재
C84: 1A1a | E84: 첨가물 | F84: 1000 bbl | T84: 활용 통계 및 자료 출처 기입 | U84: 단위변경 등 특이사항 기재
C85: 1A1a | E85: 기타탄화수소 | F85: 1000 bbl | T85: 활용 통계 및 자료 출처 기입 | U85: 단위변경 등 특이사항 기재
C86: 1A1a | E86: 정제가스 | F86: 1000 bbl | T86: 활용 통계 및 자료 출처 기입 | U86: 단위변경 등 특이사항 기재
C87: 1A1a | E87: 프로판 | F87: 1000 bbl | T87: 활용 통계 및 자료 출처 기입 | U87: 단위변경 등 특이사항 기재
C88: 1A1a | E88: 부탄 | F88: 1000 bbl | T88: 활용 통계 및 자료 출처 기입 | U88: 단위변경 등 특이사항 기재
C89: 1A1a | E89: 휘발유 | F89: 1000 bbl | T89: 활용 통계 및 자료 출처 기입 | U89: 단위변경 등 특이사항 기재
C90: 1A1a | E90: 항공휘발유 | F90: 1000 bbl | T90: 활용 통계 및 자료 출처 기입 | U90: 단위변경 등 특이사항 기재
C91: 1A1a | E91: 휘발유형항공유 | F91: 1000 bbl | T91: 활용 통계 및 자료 출처 기입 | U91: 단위변경 등 특이사항 기재
C92: 1A1a | E92: 등유형항공유 | F92: 1000 bbl | T92: 활용 통계 및 자료 출처 기입 | U92: 단위변경 등 특이사항 기재
C93: 1A1a | E93: 등유 | F93: 1000 bbl | T93: 활용 통계 및 자료 출처 기입 | U93: 단위변경 등 특이사항 기재
C94: 1A1a | E94: 경유 | F94: 1000 bbl | T94: 활용 통계 및 자료 출처 기입 | U94: 단위변경 등 특이사항 기재
... C106: 1A1a | E106: 기타석유제품 | F106: 1000 bbl | T106: 활용 통계 및 자료 출처 기입 | U106: 단위변경 등 특이사항 기재
C107: 1A1a | D107: 기타화석 | E107: 산업폐기물 | F107: 1000 toe | T107: 활용 통계 및 자료 출처 기입 | U107: 단위변경 등 특이사항 기재
C108: 1A1a | E108: 도시폐기물_비재생 | F108: 1000 toe | T108: 활용 통계 및 자료 출처 기입 | U108: 단위변경 등 특이사항 기재
C109: 1A1a | D109: 토탄 | E109: 토탄 | F109: 1000 ton | T109: 활용 통계 및 자료 출처 기입 | U109: 단위변경 등 특이사항 기재
C110: 1A1a | D110: 바이오매스 | E110: 고형바이오매스 | F110: 1000 toe | T110: 활용 통계 및 자료 출처 기입 | U110: 단위변경 등 특이사항 기재
C111: 1A1a | E111: 바이오가스 | F111: 1000 toe | T111: 활용 통계 및 자료 출처 기입 | U111: 단위변경 등 특이사항 기재
C112: 1A1a | E112: 매립지가스 | F112: 1000 toe | T112: 활용 통계 및 자료 출처 기입 | U112: 단위변경 등 특이사항 기재
C113: 1A1a | E113: 바이오휘발유 | F113: 1000 bbl | T113: 활용 통계 및 자료 출처 기입 | U113: 단위변경 등 특이사항 기재
C114: 1A1a | E114: 바이오경유 | F114: 1000 bbl | T114: 활용 통계 및 자료 출처 기입 | U114: 단위변경 등 특이사항 기재
C115: 1A1a | E115: 기타 바이오연료 | F115: 1000 bbl | T115: 활용 통계 및 자료 출처 기입 | U115: 단위변경 등 특이사항 기재
C116: 1A1a | E116: 목탄 | F116: 1000 toe | T116: 활용 통계 및 자료 출처 기입 | U116: 단위변경 등 특이사항 기재
C117: 1A1a | E117: 도시폐기물_재생 | F117: 1000 toe | T117: 활용 통계 및 자료 출처 기입 | U117: 단위변경 등 특이사항 기재
C121: 1A1aiii | D121: 열 생산
C123: CRF code | D123: 대분류 | E123: 중분류 | F123: 단위 | G123: 2010 | H123: 2011 | I123: 2012 | J123: 2013 | K123: 2014 | L123: 2015 | M123: 2016 | N123: 2017 | O123: 2018 | P123: 2019 | Q123: 2020 | R123: 2021 | S123: 2022 | T123: 출처 | U123: 비고
C124: 1A1a | D124: 석탄 | E124: 국내무연탄 | F124: 1000 ton | T124: 활용 통계 및 자료 출처 기입 | U124: 단위변경 등 특이사항 기재
C125: 1A1a | E125: 연료용 수입무연탄 | F125: 1000 ton | T125: 활용 통계 및 자료 출처 기입 | U125: 단위변경 등 특이사항 기재
C126: 1A1a | E126: 원료용 수입무연탄 | F126: 1000 ton | T126: 활용 통계 및 자료 출처 기입 | U126: 단위변경 등 특이사항 기재
C127: 1A1a | E127: 원료용유연탄 | F127: 1000 ton | T127: 활용 통계 및 자료 출처 기입 | U127: 단위변경 등 특이사항 기재
C128: 1A1a | E128: 연료용유연탄 | F128: 1000 ton | T128: 활용 통계 및 자료 출처 기입 | U128: 단위변경 등 특이사항 기재
C129: 1A1a | E129: 아역청탄 | F129: 1000 ton | T129: 활용 통계 및 자료 출처 기입 | U129: 단위변경 등 특이사항 기재
C130: 1A1a | E130: 갈탄 | F130: 1000 ton | T130: 활용 통계 및 자료 출처 기입 | U130: 단위변경 등 특이사항 기재
C131: 1A1a | E131: 연탄 | F131: 1000 ton | T131: 활용 통계 및 자료 출처 기입 | U131: 단위변경 등 특이사항 기재
C132: 1A1a | E132: 코크스 | F132: 1000 ton | T132: 활용 통계 및 자료 출처 기입 | U132: 단위변경 등 특이사항 기재
C133: 1A1a | E133: 콜타르 | F133: 1000 ton | T133: 활용 통계 및 자료 출처 기입 | U133: 단위변경 등 특이사항 기재
C134: 1A1a | E134: 코크스가스 | F134: 1000 toe | T134: 활용 통계 및 자료 출처 기입 | U134: 단위변경 등 특이사항 기재
...

Sheet 산업공정
B2: 선택입력
B6: ▶ 광물산업(2A)-자체 조사자료 선택입력(미입력시 센터 자료 활용)
B7: =SUM(G11:S11,G17:S18,G24:S27,G33:S38) -> 0
C8: 2A1 시멘트 생산
C10: CRF code | D10: 대분류 | E10: 중분류 | F10: 단위 | G10: 2010 | H10: 2011 | I10: 2012 | J10: 2013 | K10: 2014 | L10: 2015 | M10: 2016 | N10: 2017 | O10: 2018 | P10: 2019 | Q10: 2020 | R10: 2021 | S10: 2022 | T10: 출처 | U10: 비고
D11: 합계 | E11: 클링커 생산량 | F11: ton | T11: 활용 통계 및 자료 출처 기입 | U11: 단위변경 등 특이사항 기재
C14: 2A2 | D14: 석회 생산
C16: CRF code | D16: 대분류 | E16: 중분류 | F16: 단위 | G16: 2010 | H16: 2011 | I16: 2012 | J16: 2013 | K16: 2014 | L16: 2015 | M16: 2016 | N16: 2017 | O16: 2018 | P16: 2019 | Q16: 2020 | R16: 2021 | S16: 2022 | T16: 출처 | U16: 비고
C17: 1A1a | D17: 합계 | E17: 고칼슘석회생산량 | F17: ton | T17: 활용 통계 및 자료 출처 기입 | U17: 단위변경 등 특이사항 기재
D18: 합계 | E18: 고토석회생산량 | F18: ton | T18: 활용 통계 및 자료 출처 기입 | U18: 단위변경 등 특이사항 기재
C21: 2A3 | D21: 유리생산
C23: CRF code | D23: 대분류 | E23: 중분류 | F23: 단위 | G23: 2010 | H23: 2011 | I23: 2012 | J23: 2013 | K23: 2014 | L23: 2015 | M23: 2016 | N23: 2017 | O23: 2018 | P23: 2019 | Q23: 2020 | R23: 2021 | S23: 2022 | T23: 출처 | U23: 비고
C24: 1A1a | D24: 유리 생산 | E24: 유리병 생산량 | F24: ton | T24: 활용 통계 및 자료 출처 기입 | U24: 단위변경 등 특이사항 기재
C25: 1A1a | E25: 판유리 생산량 | F25: ton | T25: 활용 통계 및 자료 출처 기입 | U25: 단위변경 등 특이사항 기재
C26: 1A1a | E26: 유리섬유 생산량 | F26: ton | T26: 활용 통계 및 자료 출처 기입 | U26: 단위변경 등 특이사항 기재
C27: 1A1a | E27: 유리기판 생산량 | F27: ton | T27: 활용 통계 및 자료 출처 기입 | U27: 단위변경 등 특이사항 기재
C30: 2A4 | D30: 탄산염의 기타공정 사용
C32: CRF code | D32: 대분류 | E32: 중분류 | F32: 단위 | G32: 2010 | H32: 2011 | I32: 2012 | J32: 2013 | K32: 2014 | L32: 2015 | M32: 2016 | N32: 2017 | O32: 2018 | P32: 2019 | Q32: 2020 | R32: 2021 | S32: 2022 | T32: 출처 | U32: 비고
C33: 1A1a | D33: 소다회소비 | E33: 국내생산량 | F33: ton | T33: 활용 통계 및 자료 출처 기입 | U33: 단위변경 등 특이사항 기재
E34: 수입 무역량 | F34: ton | T34: 활용 통계 및 자료 출처 기입 | U34: 단위변경 등 특이사항 기재
E35: 수출 무역량 | F35: ton | T35: 활용 통계 및 자료 출처 기입 | U35: 단위변경 등 특이사항 기재
D36: 기타용도 | E36: 석회석 소비량 | F36: ton | T36: 활용 통계 및 자료 출처 기입 | U36: 단위변경 등 특이사항 기재
E37: 백운석 소비량 | F37: ton | T37: 활용 통계 및 자료 출처 기입 | U37: 단위변경 등 특이사항 기재
E38: 마그네사이트 소비량 | F38: ton | T38: 활용 통계 및 자료 출처 기입 | U38: 단위변경 등 특이사항 기재
B42: ▶ 화학산업(2B)-자체 조사자료 선택입력(미입력시 센터 자료 활용)
B43: =SUM(G47:S47,G53:S54,G60:S61,G67:S68,G74:S74,G80:S96,G102:S102) -> 0
C44: 2B1 | D44: 암모니아 생산
C46: CRF code | D46: 대분류 | E46: 중분류 | F46: 단위 | G46: 2010 | H46: 2011 | I46: 2012 | J46: 2013 | K46: 2014 | L46: 2015 | M46: 2016 | N46: 2017 | O46: 2018 | P46: 2019 | Q46: 2020 | R46: 2021 | S46: 2022 | T46: 출처 | U46: 비고
C47: 1A1a | D47: 합계 | E47: 암모니아 생산량 | F47: ton | T47: 활용 통계 및 자료 출처 기입 | U47: 단위변경 등 특이사항 기재
C50: 2B2 | D50: 질산 생산
C52: CRF code | D52: 대분류 | E52: 중분류 | F52: 단위 | G52: 2010 | H52: 2011 | I52: 2012 | J52: 2013 | K52: 2014 | L52: 2015 | M52: 2016 | N52: 2017 | O52: 2018 | P52: 2019 | Q52: 2020 | R52: 2021 | S52: 2022 | T52: 출처 | U52: 비고
D53: 합계 | E53: 질산 생산량 | F53: ton | T53: 활용 통계 및 자료 출처 기입 | U53: 단위변경 등 특이사항 기재
D54: 합계 | E54: 배출량 | F54: tonN2O | T54: 활용 통계 및 자료 출처 기입 | U54: 단위변경 등 특이사항 기재
C57: 2B3 | D57: 아디프산 생산
C59: CRF code | D59: 대분류 | E59: 중분류 | F59: 단위 | G59: 2010 | H59: 2011 | I59: 2012 | J59: 2013 | K59: 2014 | L59: 2015 | M59: 2016 | N59: 2017 | O59: 2018 | P59: 2019 | Q59: 2020 | R59: 2021 | S59: 2022 | T59: 출처 | U59: 비고
D60: 합계 | E60: 아디프산 생산량 | F60: ton | T60: 활용 통계 및 자료 출처 기입 | U60: 단위변경 등 특이사항 기재
D61: 합계 | E61: 배출량 | F61: tonN2O | T61: 활용 통계 및 자료 출처 기입 | U61: 단위변경 등 특이사항 기재
C64: 2B4 | D64: 카프로락탐 생산
C66: CRF code | D66: 대분류 | E66: 중분류 | F66: 단위 | G66: 2010 | H66: 2011 | I66: 2012 | J66: 2013 | K66: 2014 | L66: 2015 | M66: 2016 | N66: 2017 | O66: 2018 | P66: 2019 | Q66: 2020 | R66: 2021 | S66: 2022 | T66: 출처 | U66: 비고
D67: 합계 | E67: 카프로락탐 생산량 | F67: ton | T67: 활용 통계 및 자료 출처 기입 | U67: 단위변경 등 특이사항 기재
D68: 합계 | E68: 배출량 | F68: tonN2O | T68: 활용 통계 및 자료 출처 기입 | U68: 단위변경 등 특이사항 기재
C71: 2B5 | D71: 카바이드 생산/소비
C73: CRF code | D73: 대분류 | E73: 중분류 | F73: 단위 | G73: 2010 | H73: 2011 | I73: 2012 | J73: 2013 | K73: 2014 | L73: 2015 | M73: 2016 | N73: 2017 | O73: 2018 | P73: 2019 | Q73: 2020 | R73: 2021 | S73: 2022 | T73: 출처 | U73: 비고
D74: 합계 | E74: 카바이드 소비량 | F74: ton | T74: 활용 통계 및 자료 출처 기입 | U74: 단위변경 등 특이사항 기재
C77: 2B8 | D77: 석유화학제품 및 카본블랙 생산
C79: CRF code | D79: 대분류 | E79: 중분류 | F79: 단위 | G79: 2010 | H79: 2011 | I79: 2012 | J79: 2013 | K79: 2014 | L79: 2015 | M79: 2016 | N79: 2017 | O79: 2018 | P79: 2019 | Q79: 2020 | R79: 2021 | S79: 2022 | T79: 출처 | U79: 비고
C80: 1A1a | D80: 에틸렌 | E80: 납사 원료 소비량 | F80: ton | T80: 활용 통계 및 자료 출처 기입 | U80: 단위변경 등 특이사항 기재
E81: 부탄 원료 소비량 | F81: ton | T81: 활용 통계 및 자료 출처 기입 | U81: 단위변경 등 특이사항 기재
E82: 프로판 원료 소비량 | F82: ton | T82: 활용 통계 및 자료 출처 기입 | U82: 단위변경 등 특이사항 기재
E83: 에틸렌 생산량 | F83: ton | T83: 활용 통계 및 자료 출처 기입 | U83: 단위변경 등 특이사항 기재
E84: 프로필렌 생산량 | F84: ton | T84: 활용 통계 및 자료 출처 기입 | U84: 단위변경 등 특이사항 기재
E85: C4 생산량 | F85: ton | T85: 활용 통계 및 자료 출처 기입 | U85: 단위변경 등 특이사항 기재
E86: RPG 생산량 | F86: ton | T86: 활용 통계 및 자료 출처 기입 | U86: 단위변경 등 특이사항 기재
E87: 기타제품 생산량 | F87: ton | T87: 활용 통계 및 자료 출처 기입 | U87: 단위변경 등 특이사항 기재
D88: EDC/VCM | E88: 에틸렌 수요량 | F88: ton | T88: 활용 통계 및 자료 출처 기입 | U88: 단위변경 등 특이사항 기재
E89: EDC 생산량 | F89: ton | T89: 활용 통계 및 자료 출처 기입 | U89: 단위변경 등 특이사항 기재
E90: VCM 생산량 | F90: ton | T90: 활용 통계 및 자료 출처 기입 | U90: 단위변경 등 특이사항 기재
D91: 산화에틸렌 | E91: EO 생산량 | F91: ton | T91: 활용 통계 및 자료 출처 기입 | U91: 단위변경 등 특이사항 기재
D92: 아크릴로니트릴 | E92: 프로필렌 수요량 | F92: ton | T92: 활용 통계 및 자료 출처 기입 | U92: 단위변경 등 특이사항 기재
E93: 아크릴로니트릴 생산량 | F93: ton | T93: 활용 통계 및 자료 출처 기입 | U93: 단위변경 등 특이사항 기재
D94: 카본블랙 | E94: 카본블랙 생산량 | F94: ton | T94: 활용 통계 및 자료 출처 기입 | U94: 단위변경 등 특이사항 기재
D95: 스티렌 | E95: 스티렌 생산량 | F95: ton | T95: 활용 통계 및 자료 출처 기입 | U95: 단위변경 등 특이사항 기재
D96: BTX | E96: 납사 BTX 수요량 | F96: ton | T96: 활용 통계 및 자료 출처 기입 | U96: 단위변경 등 특이사항 기재
C99: 2B9 | D99: 불소화합물 생산
C101: CRF code | D101: 대분류 | E101: 중분류 | F101: 단위 | G101: 2010 | H101: 2011 | I101: 2012 | J101: 2013 | K101: 2014 | L101: 2015 | M101: 2016 | N101: 2017 | O101: 2018 | P101: 2019 | Q101: 2020 | R101: 2021 | S101: 2022 | T101: 출처 | U101: 비고
C102: 1A1a | D102: 불소화합물생산 | E102: HFC-22 생산량 | F102: ton | T102: 활용 통계 및 자료 출처 기입 | U102: 단위변경 등 특이사항 기재
B106: ▶ 금속산업(2C)-자체 조사자료 선택입력(미입력시 센터 자료 활용)
B107: =SUM(G111:S122,G128:S129,G135:S137,G143:S144,G150:S151,G157:S158) -> 0
C108: 2C1 | D108: 철강 생산
C110: CRF code | D110: 대분류 | E110: 중분류 | F110: 단위 | G110: 2010 | H110: 2011 | I110: 2012 | J110: 2013 | K110: 2014 | L110: 2015 | M110: 2016 | N110: 2017 | O110: 2018 | P110: 2019 | Q110: 2020 | R110: 2021 | S110: 2022 | T110: 출처 | U110: 비고
C111: 1A1a | D111: 고로 | E111: 투입_코크스 | F111: TOE | T111: 활용 통계 및 자료 출처 기입 | U111: 단위변경 등 특이사항 기재
E112: 투입_원료탄 | F112: TOE | T112: 활용 통계 및 자료 출처 기입 | U112: 단위변경 등 특이사항 기재
E113: 투입_기타유연탄 | F113: TOE | T113: 활용 통계 및 자료 출처 기입 | U113: 단위변경 등 특이사항 기재
E114: 투입_COG | F114: TOE | T114: 활용 통계 및 자료 출처 기입 | U114: 단위변경 등 특이사항 기재
E115: 투입_BFG | F115: TOE | T115: 활용 통계 및 자료 출처 기입 | U115: 단위변경 등 특이사항 기재
E116: 자체소비_BFG | F116: TOE | T116: 활용 통계 및 자료 출처 기입 | U116: 단위변경 등 특이사항 기재
E117: 자체소비_기타(FOG) | F117: TOE | T117: 활용 통계 및 자료 출처 기입 | U117: 단위변경 등 특이사항 기재
D118: 전기로 | E118: 전극봉 수입량 | F118: ton | T118: 활용 통계 및 자료 출처 기입 | U118: 단위변경 등 특이사항 기재
E119: 전극봉 수출량 | F119: ton | T119: 활용 통계 및 자료 출처 기입 | U119: 단위변경 등 특이사항 기재
D120: 탄산염 사용 | E120: 석회석 사용량 | F120: ton | T120: 활용 통계 및 자료 출처 기입 | U120: 단위변경 등 특이사항 기재
E121: 백운석 사용량 | F121: ton | T121: 활용 통계 및 자료 출처 기입 | U121: 단위변경 등 특이사항 기재
C122: 1A1a | E122: 마그네사이트 사용량 | F122: ton | T122: 활용 통계 및 자료 출처 기입 | U122: 단위변경 등 특이사항 기재
C125: 2C2 | D125: 합금철 생산
C127: CRF code | D127: 대분류 | E127: 중분류 | F127: 단위 | G127: 2010 | H127: 2011 | I127: 2012 | J127: 2013 | K127: 2014 | L127: 2015 | M127: 2016 | N127: 2017 | O127: 2018 | P127: 2019 | Q127: 2020 | R127: 2021 | S127: 2022 | T127: 출처 | U127: 비고
C128: 1A1a | D128: 합계 | E128: 석회석 사용량 | F128: ton | T128: 활용 통계 및 자료 출처 기입 | U128: 단위변경 등 특이사항 기재
D129: 합계 | E129: 백운석 사용량 | F129: ton | T129: 활용 통계 및 자료 출처 기입 | U129: 단위변경 등 특이사항 기재
C132: 2C4 | D132: 마그네슘 주조공정
C134: CRF code | D134: 대분류 | E134: 중분류 | F134: 단위 | G134: 2010 | H134: 2011 | I134: 2012 | J134: 2013 | K134: 2014 | L134: 2015 | M134: 2016 | N134: 2017 | O134: 2018 | P134: 2019 | Q134: 2020 | R134: 2021 | S134: 2022 | T134: 출처 | U134: 비고
D135: 합계 | E135: 마그네슘 수입량 | F135: ton | T135: 활용 통계 및 자료 출처 기입 | U135: 단위변경 등 특이사항 기재
D136: 합계 | E136: 석회석 사용량 | F136: ton | T136: 활용 통계 및 자료 출처 기입 | U136: 단위변경 등 특이사항 기재
D137: 합계 | E137: 백운석 사용량 | F137: ton | T137: 활용 통계 및 자료 출처 기입 | U137: 단위변경 등 특이사항 기재
C140: 2C5 | D140: 납 생산
C142: CRF code | D142: 대분류 | E142: 중분류 | F142: 단위 | G142: 2010 | H142: 2011 | I142: 2012 | J142: 2013 | K142: 2014 | L142: 2015 | M142: 2016 | N142: 2017 | O142: 2018 | P142: 2019 | Q142: 2020 | R142: 2021 | S142: 2022 | T142: 출처 | U142: 비고
C143: 1A1a | D143: 합계 | E143: 석회석 사용량 | F143: ton | T143: 활용 통계 및 자료 출처 기입 | U143: 단위변경 등 특이사항 기재
D144: 합계 | E144: 백운석 사용량 | F144: ton | T144: 활용 통계 및 자료 출처 기입 | U144: 단위변경 등 특이사항 기재
C147: 2C6 | D147: 아연 생산
C149: CRF code | D149: 대분류 | E149: 중분류 | F149: 단위 | G149: 2010 | H149: 2011 | I149: 2012 | J149: 2013 | K149: 2014 | L149: 2015 | M149: 2016 | N149: 2017 | O149: 2018 | P149: 2019 | Q149: 2020 | R149: 2021 | S149: 2022 | T149: 출처 | U149: 비고
C150: 1A1a | D150: 합계 | E150: 석회석 사용량 | F150: ton | T150: 활용 통계 및 자료 출처 기입 | U150: 단위변경 등 특이사항 기재
D151: 합계 | E151: 백운석 사용량 | F151: ton | T151: 활용 통계 및 자료 출처 기입 | U151: 단위변경 등 특이사항 기재
C154: 2C7 | D154: 기타 생산
...

Sheet 간접배출
B2: 선택입력
B5: ▶전력 소비(6A)-자체 조사자료 입력(미입력시 센터 자료 활용)
B6: =SUM(I10:U46) -> 0
C7: 6A 전력 소비량
C9: CRF code | D9: 구분 | F9: 부문 | G9: 연료명 | H9: 단위 | I9: 2010 | J9: 2011 | K9: 2012 | L9: 2013 | M9: 2014 | N9: 2015 | O9: 2016 | P9: 2017 | Q9: 2018 | R9: 2019 | S9: 2020 | T9: 2021 | U9: 2022 | V9: 출처 | W9: 비고
D10: 한국전력통계 | F10: 가정용 | G10: 가정용 | H10: GWh | V10: 활용 통계 및 자료 출처 기입 | W10: 단위변경 등 특이사항 기재
F11: 공공용 | G11: 공공용 | H11: GWh | V11: 활용 통계 및 자료 출처 기입 | W11: 단위변경 등 특이사항 기재
F12: 서비스업 | G12: 전철 | H12: GWh | V12: 활용 통계 및 자료 출처 기입 | W12: 단위변경 등 특이사항 기재
G13: 수도 | H13: GWh | V13: 활용 통계 및 자료 출처 기입 | W13: 단위변경 등 특이사항 기재
G14: 사업자용 | H14: GWh | V14: 활용 통계 및 자료 출처 기입 | W14: 단위변경 등 특이사항 기재
G15: 순수서비스 | H15: GWh | V15: 활용 통계 및 자료 출처 기입 | W15: 단위변경 등 특이사항 기재
F16: 농림어업 | G16: 농림어업 | H16: GWh | V16: 활용 통계 및 자료 출처 기입 | W16: 단위변경 등 특이사항 기재
F17: 광업 | G17: 광업 | H17: GWh | V17: 활용 통계 및 자료 출처 기입 | W17: 단위변경 등 특이사항 기재
F18: 제조업 | G18: 식료품 | H18: GWh | V18: 활용 통계 및 자료 출처 기입 | W18: 단위변경 등 특이사항 기재
G19: 식료품 제조 | H19: GWh | V19: 활용 통계 및 자료 출처 기입 | W19: 단위변경 등 특이사항 기재
G20: 음료품 제조 | H20: GWh | V20: 활용 통계 및 자료 출처 기입 | W20: 단위변경 등 특이사항 기재
G21: 담배 제조업 | H21: GWh | V21: 활용 통계 및 자료 출처 기입 | W21: 단위변경 등 특이사항 기재
G22: 섬유, 의복 | H22: GWh | V22: 활용 통계 및 자료 출처 기입 | W22: 단위변경 등 특이사항 기재
G23: 섬유 | H23: GWh | V23: 활용 통계 및 자료 출처 기입 | W23: 단위변경 등 특이사항 기재
G24: 의복, 모피 | H24: GWh | V24: 활용 통계 및 자료 출처 기입 | W24: 단위변경 등 특이사항 기재
G25: 가죽, 신발 | H25: GWh | V25: 활용 통계 및 자료 출처 기입 | W25: 단위변경 등 특이사항 기재
G26: 목재, 나무 | H26: GWh | V26: 활용 통계 및 자료 출처 기입 | W26: 단위변경 등 특이사항 기재
G27: 플프, 종이 | H27: GWh | V27: 활용 통계 및 자료 출처 기입 | W27: 단위변경 등 특이사항 기재
G28: 출판, 인쇄 | H28: GWh | V28: 활용 통계 및 자료 출처 기입 | W28: 단위변경 등 특이사항 기재
G29: 석유, 화학 | H29: GWh | V29: 활용 통계 및 자료 출처 기입 | W29: 단위변경 등 특이사항 기재
G30: 석유정제 | H30: GWh | V30: 활용 통계 및 자료 출처 기입 | W30: 단위변경 등 특이사항 기재
... G46: 재생재료처리 | H46: GWh | V46: 활용 통계 및 자료 출처 기입 | W46: 단위변경 등 특이사항 기재
B50: ▶열 소비(6B)-자체 조사자료 선택입력(미입력시 센터 자료 활용)
B51: =SUM(I55:U58) -> 0
C52: 6B 열 소비량
C54: CRF code | D54: 대분류 | F54: 연료명 | G54: 연료명 | H54: 단위 | I54: 2010 | J54: 2011 | K54: 2012 | L54: 2013 | M54: 2014 | N54: 2015 | O54: 2016 | P54: 2017 | Q54: 2018 | R54: 2019 | S54: 2020 | T54: 2021 | U54: 2022 | V54: 출처 | W54: 비고
D55: 에너지밸런스 | F55: 가정부문 | G55: 가정용 | H55: 1000toe | V55: 활용 통계 및 자료 출처 기입 | W55: 단위변경 등 특이사항 기재
F56: 상업부문 | G56: 상업용 | H56: 1000toe | V56: 활용 통계 및 자료 출처 기입 | W56: 단위변경 등 특이사항 기재
F57: 공공부문 | G57: 공공용 | H57: 1000toe | V57: 활용 통계 및 자료 출처 기입 | W57: 단위변경 등 특이사항 기재
F58: 산업단지 | G58: 산업용 | H58: 1000toe | V58: 활용 통계 및 자료 출처 기입 | W58: 단위변경 등 특이사항 기재
B61: ▶폐기물 발생(6C)- 전국 폐기물 발생 및 처리현황, 하수도통계 자료 선택입력(미입력시 센터에서 입력)
B62: =SUM(H66:J102,H108:J137,H143:J160,H166:J189,H195:J231,H237:T238,H245:J274,H333:T339) -> 0
C63: 6C1 생활폐기물 매립(발생량)
C65: CRF code | D65: 대분류 | E65: 중분류 | F65: 소분류 | G65: 단위 | H65: 2020 | I65: 2021 | J65: 2022 | K65: 출처 | L65: 비고
D66: 종량제방식 등 혼합배출 | E66: 가연성 | F66: 폐지류 | G66: ton/year | K66: 활용 통계 및 자료 출처 기입 | L66: 단위변경 등 특이사항 기재
F67: 폐합성수지류 | G67: ton/year | K67: 활용 통계 및 자료 출처 기입 | L67: 단위변경 등 특이사항 기재
F68: 폐고무류 | G68: ton/year | K68: 활용 통계 및 자료 출처 기입 | L68: 단위변경 등 특이사항 기재
F69: 폐섬유류 | G69: ton/year | K69: 활용 통계 및 자료 출처 기입 | L69: 단위변경 등 특이사항 기재
F70: 음식물류 폐기물 | G70: ton/year | K70: 활용 통계 및 자료 출처 기입 | L70: 단위변경 등 특이사항 기재
F71: 폐목재류 | G71: ton/year | K71: 활용 통계 및 자료 출처 기입 | L71: 단위변경 등 특이사항 기재
F72: 기타_가연성_생활 | G72: ton/year | K72: 활용 통계 및 자료 출처 기입 | L72: 단위변경 등 특이사항 기재
E73: 불연성 | F73: 폐금속류 | G73: ton/year | K73: 활용 통계 및 자료 출처 기입 | L73: 단위변경 등 특이사항 기재
F74: 폐유리류 | G74: ton/year | K74: 활용 통계 및 자료 출처 기입 | L74: 단위변경 등 특이사항 기재
F75: 폐토사류 | G75: ton/year | K75: 활용 통계 및 자료 출처 기입 | L75: 단위변경 등 특이사항 기재
F76: 폐타일 및 도자기류 | G76: ton/year | K76: 활용 통계 및 자료 출처 기입 | L76: 단위변경 등 특이사항 기재
F77: 연탄재 | G77: ton/year | K77: 활용 통계 및 자료 출처 기입 | L77: 단위변경 등 특이사항 기재
F78: 기타_불연성_생활 | G78: ton/year | K78: 활용 통계 및 자료 출처 기입 | L78: 단위변경 등 특이사항 기재
E79: 건설폐재류 | F79: 건설폐재류 | G79: ton/year | K79: 활용 통계 및 자료 출처 기입 | L79: 단위변경 등 특이사항 기재
E80: 기타(배출불명) | F80: 기타(배출불명)_생활 | G80: ton/year | K80: 활용 통계 및 자료 출처 기입 | L80: 단위변경 등 특이사항 기재
D81: 재활용 가능자원 분리배출 | E81: 폐지류 | F81: 종이팩 | G81: ton/year | K81: 활용 통계 및 자료 출처 기입 | L81: 단위변경 등 특이사항 기재
F82: 기타_폐지류_생활 | G82: ton/year | K82: 활용 통계 및 자료 출처 기입 | L82: 단위변경 등 특이사항 기재
E83: 고철류 | F83: 고철류 | G83: ton/year | K83: 활용 통계 및 자료 출처 기입 | L83: 단위변경 등 특이사항 기재
E84: 금속캔 | F84: 금속캔 | G84: ton/year | K84: 활용 통계 및 자료 출처 기입 | L84: 단위변경 등 특이사항 기재
E85: 폐합성수지류 | F85: 비닐류 | G85: ton/year | K85: 활용 통계 및 자료 출처 기입 | L85: 단위변경 등 특이사항 기재
F86: 발포수지류 | G86: ton/year | K86: 활용 통계 및 자료 출처 기입 | L86: 단위변경 등 특이사항 기재
F87: PET병 | G87: ton/year | K87: 활용 통계 및 자료 출처 기입 | L87: 단위변경 등 특이사항 기재
F88: 기타_폐합성수지류_생활 | G88: ton/year | K88: 활용 통계 및 자료 출처 기입 | L88: 단위변경 등 특이사항 기재
E89: 폐고무류 | F89: 폐고무류 | G89: ton/year | K89: 활용 통계 및 자료 출처 기입 | L89: 단위변경 등 특이사항 기재
E90: 폐유리병류 | F90: 폐유리병류 | G90: ton/year | K90: 활용 통계 및 자료 출처 기입 | L90: 단위변경 등 특이사항 기재
E91: 폐의류 | F91: 폐의류 | G91: ton/year | K91: 활용 통계 및 자료 출처 기입 | L91: 단위변경 등 특이사항 기재
E92: 폐섬유류 | F92: 폐섬유류 | G92: ton/year | K92: 활용 통계 및 자료 출처 기입 | L92: 단위변경 등 특이사항 기재
E93: 조명폐기물 | F93: 조명폐기물 | G93: ton/year | K93: 활용 통계 및 자료 출처 기입 | L93: 단위변경 등 특이사항 기재
E94: 폐전지류 | F94: 폐전지류 | G94: ton/year | K94: 활용 통계 및 자료 출처 기입 | L94: 단위변경 등 특이사항 기재
E95: 영농폐기물 | F95: 농약용기류 | G95: ton/year | K95: 활용 통계 및 자료 출처 기입 | L95: 단위변경 등 특이사항 기재
F96: 폐비닐 | G96: ton/year | K96: 활용 통계 및 자료 출처 기입 | L96: 단위변경 등 특이사항 기재
E97: 폐식용유 | F97: 폐식용유 | G97: ton/year | K97: 활용 통계 및 자료 출처 기입 | L97: 단위변경 등 특이사항 기재
E98: 폐전기전자제품 | F98: 폐전기전자제품 | G98: ton/year | K98: 활용 통계 및 자료 출처 기입 | L98: 단위변경 등 특이사항 기재
E99: 폐가구류 | F99: 폐가구류 | G99: ton/year | K99: 활용 통계 및 자료 출처 기입 | L99: 단위변경 등 특이사항 기재
E100: 기타_재활용_생활 | F100: 기타_재활용_생활 | G100: ton/year | K100: 활용 통계 및 자료 출처 기입 | L100: 단위변경 등 특이사항 기재
E101: 재활용 잔재물 | F101: 재활용 잔재물 | G101: ton/year | K101: 활용 통계 및 자료 출처 기입 | L101: 단위변경 등 특이사항 기재
D102: 음식물류 폐기물 분리배출 | E102: 음식물류 폐기물 분리배출 | F102: 음식물류 폐기물 분리배출 | G102: ton/year | K102: 활용 통계 및 자료 출처 기입 | L102: 단위변경 등 특이사항 기재
C105: 6C1 사업장배출시설계폐기물 매립(발생량)
C107: CRF code | D107: 대분류 | E107: 중분류 | F107: 소분류 | G107: 단위 | H107: 2020 | I107: 2021 | J107: 2022 | K107: 출처 | L107: 비고
D108: 가연성 | E108: 폐지류 | F108: 폐지류 | G108: ton/year | K108: 활용 통계 및 자료 출처 기입 | L108: 단위변경 등 특이사항 기재
E109: 폐목재류 | F109: 폐목재류 | G109: ton/year | K109: 활용 통계 및 자료 출처 기입 | L109: 단위변경 등 특이사항 기재
E110: 폐섬유류 | F110: 폐섬유류 | G110: ton/year | K110: 활용 통계 및 자료 출처 기입 | L110: 단위변경 등 특이사항 기재
E111: 폐합성수지류 | F111: 폐합성수지류 | G111: ton/year | K111: 활용 통계 및 자료 출처 기입 | L111: 단위변경 등 특이사항 기재
E112: 폐합성고무류 | F112: 폐합성고무류 | G112: ton/year | K112: 활용 통계 및 자료 출처 기입 | L112: 단위변경 등 특이사항 기재
E113: 폐전기전자제품류 | F113: 폐전기전자제품류 | G113: ton/year | K113: 활용 통계 및 자료 출처 기입 | L113: 단위변경 등 특이사항 기재
E114: 유기성오니류 | F114: 폐수처리오니 | G114: ton/year | K114: 활용 통계 및 자료 출처 기입 | L114: 단위변경 등 특이사항 기재
F115: 공정오니 | G115: ton/year | K115: 활용 통계 및 자료 출처 기입 | L115: 단위변경 등 특이사항 기재
F116: 정수처리오니 | G116: ton/year | K116: 활용 통계 및 자료 출처 기입 | L116: 단위변경 등 특이사항 기재
F117: 하수처리오니 | G117: ton/year | K117: 활용 통계 및 자료 출처 기입 | L117: 단위변경 등 특이사항 기재
E118: 동식물성잔재물 | F118: 동식물성잔재물 | G118: ton/year | K118: 활용 통계 및 자료 출처 기입 | L118: 단위변경 등 특이사항 기재
E119: 폐식용류 | F119: 폐식용류 | G119: ton/year | K119: 활용 통계 및 자료 출처 기입 | L119: 단위변경 등 특이사항 기재
E120: 기타_가연성_사업장 | F120: 기타_가연성_사업장 | G120: ton/year | K120: 활용 통계 및 자료 출처 기입 | L120: 단위변경 등 특이사항 기재
D121: 불연성 | E121: 광재류 | F121: 광재류 | G121: ton/year | K121: 활용 통계 및 자료 출처 기입 | L121: 단위변경 등 특이사항 기재
E122: 연소잔재물 | F122: 연소잔재물 | G122: ton/year | K122: 활용 통계 및 자료 출처 기입 | L122: 단위변경 등 특이사항 기재
E123: 소각재 | F123: 소각재 | G123: ton/year | K123: 활용 통계 및 자료 출처 기입 | L123: 단위변경 등 특이사항 기재
E124: 분진류 | F124: 분진류 | G124: ton/year | K124: 활용 통계 및 자료 출처 기입 | L124: 단위변경 등 특이사항 기재
E125: 폐주물사및폐사 | F125: 폐주물사및폐사 | G125: ton/year | K125: 활용 통계 및 자료 출처 기입 | L125: 단위변경 등 특이사항 기재
E126: 폐금속류 | F126: 고철 | G126: ton/year | K126: 활용 통계 및 자료 출처 기입 | L126: 단위변경 등 특이사항 기재
F127: 비철 | G127: ton/year | K127: 활용 통계 및 자료 출처 기입 | L127: 단위변경 등 특이사항 기재
E128: 폐석재폐콘크리트류 | F128: 폐석재폐콘크리트류 | G128: ton/year | K128: 활용 통계 및 자료 출처 기입 | L128: 단위변경 등 특이사항 기재
E129: 폐석고및폐석회 | F129: 폐석고및폐석회 | G129: ton/year | K129: 활용 통계 및 자료 출처 기입 | L129: 단위변경 등 특이사항 기재
...
